BEGIN:VCALENDAR
VERSION:2.0
PRODID:-//Heart of Worship Church - ECPv6.15.20//NONSGML v1.0//EN
CALSCALE:GREGORIAN
METHOD:PUBLISH
X-WR-CALNAME:Heart of Worship Church
X-ORIGINAL-URL:https://thehowchurch.org
X-WR-CALDESC:Events for Heart of Worship Church
REFRESH-INTERVAL;VALUE=DURATION:PT1H
X-Robots-Tag:noindex
X-PUBLISHED-TTL:PT1H
BEGIN:VTIMEZONE
TZID:America/New_York
BEGIN:DAYLIGHT
TZOFFSETFROM:-0500
TZOFFSETTO:-0400
TZNAME:EDT
DTSTART:20250309T070000
END:DAYLIGHT
BEGIN:STANDARD
TZOFFSETFROM:-0400
TZOFFSETTO:-0500
TZNAME:EST
DTSTART:20251102T060000
END:STANDARD
BEGIN:DAYLIGHT
TZOFFSETFROM:-0500
TZOFFSETTO:-0400
TZNAME:EDT
DTSTART:20260308T070000
END:DAYLIGHT
BEGIN:STANDARD
TZOFFSETFROM:-0400
TZOFFSETTO:-0500
TZNAME:EST
DTSTART:20261101T060000
END:STANDARD
BEGIN:DAYLIGHT
TZOFFSETFROM:-0500
TZOFFSETTO:-0400
TZNAME:EDT
DTSTART:20270314T070000
END:DAYLIGHT
BEGIN:STANDARD
TZOFFSETFROM:-0400
TZOFFSETTO:-0500
TZNAME:EST
DTSTART:20271107T060000
END:STANDARD
END:VTIMEZONE
BEGIN:VEVENT
DTSTART;TZID=America/New_York:20260517T110000
DTEND;TZID=America/New_York:20260517T123000
DTSTAMP:20260420T105338
CREATED:20160613T171114Z
LAST-MODIFIED:20250907T163436Z
UID:10000996-1779015600-1779021000@thehowchurch.org
SUMMARY:Service @ 11:00AM
DESCRIPTION:
URL:https://thehowchurch.org/event/service-1100am-21/2026-05-17/
LOCATION:Heart of Worship Church\, 10628 US Highway 301\, Dade City\, FL\, 33525\, United States
GEO:28.3123947;-82.1868517
X-APPLE-STRUCTURED-LOCATION;VALUE=URI;X-ADDRESS=Heart of Worship Church 10628 US Highway 301 Dade City FL 33525 United States;X-APPLE-RADIUS=500;X-TITLE=10628 US Highway 301:geo:-82.1868517,28.3123947
END:VEVENT
BEGIN:VEVENT
DTSTART;TZID=America/New_York:20260513T184500
DTEND;TZID=America/New_York:20260513T200000
DTSTAMP:20260420T105338
CREATED:20250907T163212Z
LAST-MODIFIED:20260412T152247Z
UID:10000677-1778697900-1778702400@thehowchurch.org
SUMMARY:Wednesday Night Fellowship
DESCRIPTION:Adult Bible study in the Heart of Worship sanctuary beginning at 7:00pm.
URL:https://thehowchurch.org/event/wednesday-night-fellowship/2026-05-13/
LOCATION:Heart of Worship Church\, 10628 US Highway 301\, Dade City\, FL\, 33525\, United States
GEO:28.3123947;-82.1868517
X-APPLE-STRUCTURED-LOCATION;VALUE=URI;X-ADDRESS=Heart of Worship Church 10628 US Highway 301 Dade City FL 33525 United States;X-APPLE-RADIUS=500;X-TITLE=10628 US Highway 301:geo:-82.1868517,28.3123947
END:VEVENT
BEGIN:VEVENT
DTSTART;TZID=America/New_York:20260510T110000
DTEND;TZID=America/New_York:20260510T123000
DTSTAMP:20260420T105338
CREATED:20160613T171114Z
LAST-MODIFIED:20250907T163436Z
UID:10000995-1778410800-1778416200@thehowchurch.org
SUMMARY:Service @ 11:00AM
DESCRIPTION:
URL:https://thehowchurch.org/event/service-1100am-21/2026-05-10/
LOCATION:Heart of Worship Church\, 10628 US Highway 301\, Dade City\, FL\, 33525\, United States
GEO:28.3123947;-82.1868517
X-APPLE-STRUCTURED-LOCATION;VALUE=URI;X-ADDRESS=Heart of Worship Church 10628 US Highway 301 Dade City FL 33525 United States;X-APPLE-RADIUS=500;X-TITLE=10628 US Highway 301:geo:-82.1868517,28.3123947
END:VEVENT
BEGIN:VEVENT
DTSTART;TZID=America/New_York:20260506T184500
DTEND;TZID=America/New_York:20260506T200000
DTSTAMP:20260420T105338
CREATED:20250907T163212Z
LAST-MODIFIED:20260412T152247Z
UID:10000676-1778093100-1778097600@thehowchurch.org
SUMMARY:Wednesday Night Fellowship
DESCRIPTION:Adult Bible study in the Heart of Worship sanctuary beginning at 7:00pm.
URL:https://thehowchurch.org/event/wednesday-night-fellowship/2026-05-06/
LOCATION:Heart of Worship Church\, 10628 US Highway 301\, Dade City\, FL\, 33525\, United States
GEO:28.3123947;-82.1868517
X-APPLE-STRUCTURED-LOCATION;VALUE=URI;X-ADDRESS=Heart of Worship Church 10628 US Highway 301 Dade City FL 33525 United States;X-APPLE-RADIUS=500;X-TITLE=10628 US Highway 301:geo:-82.1868517,28.3123947
END:VEVENT
BEGIN:VEVENT
DTSTART;TZID=America/New_York:20260503T110000
DTEND;TZID=America/New_York:20260503T123000
DTSTAMP:20260420T105338
CREATED:20160613T171114Z
LAST-MODIFIED:20250907T163436Z
UID:10000994-1777806000-1777811400@thehowchurch.org
SUMMARY:Service @ 11:00AM
DESCRIPTION:
URL:https://thehowchurch.org/event/service-1100am-21/2026-05-03/
LOCATION:Heart of Worship Church\, 10628 US Highway 301\, Dade City\, FL\, 33525\, United States
GEO:28.3123947;-82.1868517
X-APPLE-STRUCTURED-LOCATION;VALUE=URI;X-ADDRESS=Heart of Worship Church 10628 US Highway 301 Dade City FL 33525 United States;X-APPLE-RADIUS=500;X-TITLE=10628 US Highway 301:geo:-82.1868517,28.3123947
END:VEVENT
BEGIN:VEVENT
DTSTART;TZID=America/New_York:20260429T184500
DTEND;TZID=America/New_York:20260429T200000
DTSTAMP:20260420T105338
CREATED:20250907T163212Z
LAST-MODIFIED:20260412T152247Z
UID:10000675-1777488300-1777492800@thehowchurch.org
SUMMARY:Wednesday Night Fellowship
DESCRIPTION:Adult Bible study in the Heart of Worship sanctuary beginning at 7:00pm.
URL:https://thehowchurch.org/event/wednesday-night-fellowship/2026-04-29/
LOCATION:Heart of Worship Church\, 10628 US Highway 301\, Dade City\, FL\, 33525\, United States
GEO:28.3123947;-82.1868517
X-APPLE-STRUCTURED-LOCATION;VALUE=URI;X-ADDRESS=Heart of Worship Church 10628 US Highway 301 Dade City FL 33525 United States;X-APPLE-RADIUS=500;X-TITLE=10628 US Highway 301:geo:-82.1868517,28.3123947
END:VEVENT
BEGIN:VEVENT
DTSTART;TZID=America/New_York:20260426T110000
DTEND;TZID=America/New_York:20260426T123000
DTSTAMP:20260420T105338
CREATED:20160613T171114Z
LAST-MODIFIED:20250907T163436Z
UID:10000993-1777201200-1777206600@thehowchurch.org
SUMMARY:Service @ 11:00AM
DESCRIPTION:
URL:https://thehowchurch.org/event/service-1100am-21/2026-04-26/
LOCATION:Heart of Worship Church\, 10628 US Highway 301\, Dade City\, FL\, 33525\, United States
GEO:28.3123947;-82.1868517
X-APPLE-STRUCTURED-LOCATION;VALUE=URI;X-ADDRESS=Heart of Worship Church 10628 US Highway 301 Dade City FL 33525 United States;X-APPLE-RADIUS=500;X-TITLE=10628 US Highway 301:geo:-82.1868517,28.3123947
END:VEVENT
BEGIN:VEVENT
DTSTART;TZID=America/New_York:20260425T100000
DTEND;TZID=America/New_York:20260425T120000
DTSTAMP:20260420T105338
CREATED:20240928T151740Z
LAST-MODIFIED:20250722T230514Z
UID:10000486-1777111200-1777118400@thehowchurch.org
SUMMARY:Care & Share Ministry
DESCRIPTION:Please join us from 10am-1pm at Hibiscus Park
URL:https://thehowchurch.org/event/care-share-ministry/2026-04-25/
LOCATION:Heart of Worship Church\, 10628 US Highway 301\, Dade City\, FL\, 33525\, United States
GEO:28.3123947;-82.1868517
X-APPLE-STRUCTURED-LOCATION;VALUE=URI;X-ADDRESS=Heart of Worship Church 10628 US Highway 301 Dade City FL 33525 United States;X-APPLE-RADIUS=500;X-TITLE=10628 US Highway 301:geo:-82.1868517,28.3123947
END:VEVENT
BEGIN:VEVENT
DTSTART;TZID=America/New_York:20260422T184500
DTEND;TZID=America/New_York:20260422T200000
DTSTAMP:20260420T105338
CREATED:20250907T163212Z
LAST-MODIFIED:20260412T152247Z
UID:10000674-1776883500-1776888000@thehowchurch.org
SUMMARY:Wednesday Night Fellowship
DESCRIPTION:Adult Bible study in the Heart of Worship sanctuary beginning at 7:00pm.
URL:https://thehowchurch.org/event/wednesday-night-fellowship/2026-04-22/
LOCATION:Heart of Worship Church\, 10628 US Highway 301\, Dade City\, FL\, 33525\, United States
GEO:28.3123947;-82.1868517
X-APPLE-STRUCTURED-LOCATION;VALUE=URI;X-ADDRESS=Heart of Worship Church 10628 US Highway 301 Dade City FL 33525 United States;X-APPLE-RADIUS=500;X-TITLE=10628 US Highway 301:geo:-82.1868517,28.3123947
END:VEVENT
BEGIN:VEVENT
DTSTART;TZID=America/New_York:20260419T110000
DTEND;TZID=America/New_York:20260419T123000
DTSTAMP:20260420T105338
CREATED:20160613T171114Z
LAST-MODIFIED:20250907T163436Z
UID:10000992-1776596400-1776601800@thehowchurch.org
SUMMARY:Service @ 11:00AM
DESCRIPTION:
URL:https://thehowchurch.org/event/service-1100am-21/2026-04-19/
LOCATION:Heart of Worship Church\, 10628 US Highway 301\, Dade City\, FL\, 33525\, United States
GEO:28.3123947;-82.1868517
X-APPLE-STRUCTURED-LOCATION;VALUE=URI;X-ADDRESS=Heart of Worship Church 10628 US Highway 301 Dade City FL 33525 United States;X-APPLE-RADIUS=500;X-TITLE=10628 US Highway 301:geo:-82.1868517,28.3123947
END:VEVENT
BEGIN:VEVENT
DTSTART;TZID=America/New_York:20260412T110000
DTEND;TZID=America/New_York:20260412T123000
DTSTAMP:20260420T105338
CREATED:20160613T171114Z
LAST-MODIFIED:20250907T163436Z
UID:10000991-1775991600-1775997000@thehowchurch.org
SUMMARY:Service @ 11:00AM
DESCRIPTION:
URL:https://thehowchurch.org/event/service-1100am-21/2026-04-12/
LOCATION:Heart of Worship Church\, 10628 US Highway 301\, Dade City\, FL\, 33525\, United States
GEO:28.3123947;-82.1868517
X-APPLE-STRUCTURED-LOCATION;VALUE=URI;X-ADDRESS=Heart of Worship Church 10628 US Highway 301 Dade City FL 33525 United States;X-APPLE-RADIUS=500;X-TITLE=10628 US Highway 301:geo:-82.1868517,28.3123947
END:VEVENT
BEGIN:VEVENT
DTSTART;TZID=America/New_York:20260408T184500
DTEND;TZID=America/New_York:20260408T200000
DTSTAMP:20260420T105338
CREATED:20250907T163212Z
LAST-MODIFIED:20260412T152247Z
UID:10000672-1775673900-1775678400@thehowchurch.org
SUMMARY:Wednesday Night Fellowship
DESCRIPTION:Adult Bible study in the Heart of Worship sanctuary beginning at 7:00pm.
URL:https://thehowchurch.org/event/wednesday-night-fellowship/2026-04-08/
LOCATION:Heart of Worship Church\, 10628 US Highway 301\, Dade City\, FL\, 33525\, United States
GEO:28.3123947;-82.1868517
X-APPLE-STRUCTURED-LOCATION;VALUE=URI;X-ADDRESS=Heart of Worship Church 10628 US Highway 301 Dade City FL 33525 United States;X-APPLE-RADIUS=500;X-TITLE=10628 US Highway 301:geo:-82.1868517,28.3123947
END:VEVENT
BEGIN:VEVENT
DTSTART;TZID=America/New_York:20260405T110000
DTEND;TZID=America/New_York:20260405T123000
DTSTAMP:20260420T105338
CREATED:20160613T171114Z
LAST-MODIFIED:20250907T163436Z
UID:10000990-1775386800-1775392200@thehowchurch.org
SUMMARY:Service @ 11:00AM
DESCRIPTION:
URL:https://thehowchurch.org/event/service-1100am-21/2026-04-05/
LOCATION:Heart of Worship Church\, 10628 US Highway 301\, Dade City\, FL\, 33525\, United States
GEO:28.3123947;-82.1868517
X-APPLE-STRUCTURED-LOCATION;VALUE=URI;X-ADDRESS=Heart of Worship Church 10628 US Highway 301 Dade City FL 33525 United States;X-APPLE-RADIUS=500;X-TITLE=10628 US Highway 301:geo:-82.1868517,28.3123947
END:VEVENT
BEGIN:VEVENT
DTSTART;TZID=America/New_York:20260401T184500
DTEND;TZID=America/New_York:20260401T200000
DTSTAMP:20260420T105338
CREATED:20250907T163212Z
LAST-MODIFIED:20260412T152247Z
UID:10000671-1775069100-1775073600@thehowchurch.org
SUMMARY:Wednesday Night Fellowship
DESCRIPTION:Adult Bible study in the Heart of Worship sanctuary beginning at 7:00pm.
URL:https://thehowchurch.org/event/wednesday-night-fellowship/2026-04-01/
LOCATION:Heart of Worship Church\, 10628 US Highway 301\, Dade City\, FL\, 33525\, United States
GEO:28.3123947;-82.1868517
X-APPLE-STRUCTURED-LOCATION;VALUE=URI;X-ADDRESS=Heart of Worship Church 10628 US Highway 301 Dade City FL 33525 United States;X-APPLE-RADIUS=500;X-TITLE=10628 US Highway 301:geo:-82.1868517,28.3123947
END:VEVENT
BEGIN:VEVENT
DTSTART;TZID=America/New_York:20260329T110000
DTEND;TZID=America/New_York:20260329T123000
DTSTAMP:20260420T105338
CREATED:20160613T171114Z
LAST-MODIFIED:20250907T163436Z
UID:10000989-1774782000-1774787400@thehowchurch.org
SUMMARY:Service @ 11:00AM
DESCRIPTION:
URL:https://thehowchurch.org/event/service-1100am-21/2026-03-29/
LOCATION:Heart of Worship Church\, 10628 US Highway 301\, Dade City\, FL\, 33525\, United States
GEO:28.3123947;-82.1868517
X-APPLE-STRUCTURED-LOCATION;VALUE=URI;X-ADDRESS=Heart of Worship Church 10628 US Highway 301 Dade City FL 33525 United States;X-APPLE-RADIUS=500;X-TITLE=10628 US Highway 301:geo:-82.1868517,28.3123947
END:VEVENT
BEGIN:VEVENT
DTSTART;TZID=America/New_York:20260328T100000
DTEND;TZID=America/New_York:20260328T120000
DTSTAMP:20260420T105338
CREATED:20240928T151740Z
LAST-MODIFIED:20250722T230514Z
UID:10000485-1774692000-1774699200@thehowchurch.org
SUMMARY:Care & Share Ministry
DESCRIPTION:Please join us from 10am-1pm at Hibiscus Park
URL:https://thehowchurch.org/event/care-share-ministry/2026-03-28/
LOCATION:Heart of Worship Church\, 10628 US Highway 301\, Dade City\, FL\, 33525\, United States
GEO:28.3123947;-82.1868517
X-APPLE-STRUCTURED-LOCATION;VALUE=URI;X-ADDRESS=Heart of Worship Church 10628 US Highway 301 Dade City FL 33525 United States;X-APPLE-RADIUS=500;X-TITLE=10628 US Highway 301:geo:-82.1868517,28.3123947
END:VEVENT
BEGIN:VEVENT
DTSTART;TZID=America/New_York:20260325T184500
DTEND;TZID=America/New_York:20260325T200000
DTSTAMP:20260420T105338
CREATED:20250907T163212Z
LAST-MODIFIED:20260412T152247Z
UID:10000670-1774464300-1774468800@thehowchurch.org
SUMMARY:Wednesday Night Fellowship
DESCRIPTION:Adult Bible study in the Heart of Worship sanctuary beginning at 7:00pm.
URL:https://thehowchurch.org/event/wednesday-night-fellowship/2026-03-25/
LOCATION:Heart of Worship Church\, 10628 US Highway 301\, Dade City\, FL\, 33525\, United States
GEO:28.3123947;-82.1868517
X-APPLE-STRUCTURED-LOCATION;VALUE=URI;X-ADDRESS=Heart of Worship Church 10628 US Highway 301 Dade City FL 33525 United States;X-APPLE-RADIUS=500;X-TITLE=10628 US Highway 301:geo:-82.1868517,28.3123947
END:VEVENT
BEGIN:VEVENT
DTSTART;TZID=America/New_York:20260322T110000
DTEND;TZID=America/New_York:20260322T123000
DTSTAMP:20260420T105338
CREATED:20160613T171114Z
LAST-MODIFIED:20250907T163436Z
UID:10000988-1774177200-1774182600@thehowchurch.org
SUMMARY:Service @ 11:00AM
DESCRIPTION:
URL:https://thehowchurch.org/event/service-1100am-21/2026-03-22/
LOCATION:Heart of Worship Church\, 10628 US Highway 301\, Dade City\, FL\, 33525\, United States
GEO:28.3123947;-82.1868517
X-APPLE-STRUCTURED-LOCATION;VALUE=URI;X-ADDRESS=Heart of Worship Church 10628 US Highway 301 Dade City FL 33525 United States;X-APPLE-RADIUS=500;X-TITLE=10628 US Highway 301:geo:-82.1868517,28.3123947
END:VEVENT
BEGIN:VEVENT
DTSTART;TZID=America/New_York:20260318T184500
DTEND;TZID=America/New_York:20260318T200000
DTSTAMP:20260420T105338
CREATED:20250907T163212Z
LAST-MODIFIED:20260412T152247Z
UID:10000669-1773859500-1773864000@thehowchurch.org
SUMMARY:Wednesday Night Fellowship
DESCRIPTION:Adult Bible study in the Heart of Worship sanctuary beginning at 7:00pm.
URL:https://thehowchurch.org/event/wednesday-night-fellowship/2026-03-18/
LOCATION:Heart of Worship Church\, 10628 US Highway 301\, Dade City\, FL\, 33525\, United States
GEO:28.3123947;-82.1868517
X-APPLE-STRUCTURED-LOCATION;VALUE=URI;X-ADDRESS=Heart of Worship Church 10628 US Highway 301 Dade City FL 33525 United States;X-APPLE-RADIUS=500;X-TITLE=10628 US Highway 301:geo:-82.1868517,28.3123947
END:VEVENT
BEGIN:VEVENT
DTSTART;TZID=America/New_York:20260315T110000
DTEND;TZID=America/New_York:20260315T123000
DTSTAMP:20260420T105338
CREATED:20160613T171114Z
LAST-MODIFIED:20250907T163436Z
UID:10000987-1773572400-1773577800@thehowchurch.org
SUMMARY:Service @ 11:00AM
DESCRIPTION:
URL:https://thehowchurch.org/event/service-1100am-21/2026-03-15/
LOCATION:Heart of Worship Church\, 10628 US Highway 301\, Dade City\, FL\, 33525\, United States
GEO:28.3123947;-82.1868517
X-APPLE-STRUCTURED-LOCATION;VALUE=URI;X-ADDRESS=Heart of Worship Church 10628 US Highway 301 Dade City FL 33525 United States;X-APPLE-RADIUS=500;X-TITLE=10628 US Highway 301:geo:-82.1868517,28.3123947
END:VEVENT
BEGIN:VEVENT
DTSTART;TZID=America/New_York:20260311T184500
DTEND;TZID=America/New_York:20260311T200000
DTSTAMP:20260420T105338
CREATED:20250907T163212Z
LAST-MODIFIED:20260412T152247Z
UID:10000668-1773254700-1773259200@thehowchurch.org
SUMMARY:Wednesday Night Fellowship
DESCRIPTION:Adult Bible study in the Heart of Worship sanctuary beginning at 7:00pm.
URL:https://thehowchurch.org/event/wednesday-night-fellowship/2026-03-11/
LOCATION:Heart of Worship Church\, 10628 US Highway 301\, Dade City\, FL\, 33525\, United States
GEO:28.3123947;-82.1868517
X-APPLE-STRUCTURED-LOCATION;VALUE=URI;X-ADDRESS=Heart of Worship Church 10628 US Highway 301 Dade City FL 33525 United States;X-APPLE-RADIUS=500;X-TITLE=10628 US Highway 301:geo:-82.1868517,28.3123947
END:VEVENT
BEGIN:VEVENT
DTSTART;TZID=America/New_York:20260308T110000
DTEND;TZID=America/New_York:20260308T123000
DTSTAMP:20260420T105338
CREATED:20160613T171114Z
LAST-MODIFIED:20250907T163436Z
UID:10000986-1772967600-1772973000@thehowchurch.org
SUMMARY:Service @ 11:00AM
DESCRIPTION:
URL:https://thehowchurch.org/event/service-1100am-21/2026-03-08/
LOCATION:Heart of Worship Church\, 10628 US Highway 301\, Dade City\, FL\, 33525\, United States
GEO:28.3123947;-82.1868517
X-APPLE-STRUCTURED-LOCATION;VALUE=URI;X-ADDRESS=Heart of Worship Church 10628 US Highway 301 Dade City FL 33525 United States;X-APPLE-RADIUS=500;X-TITLE=10628 US Highway 301:geo:-82.1868517,28.3123947
END:VEVENT
BEGIN:VEVENT
DTSTART;TZID=America/New_York:20260304T184500
DTEND;TZID=America/New_York:20260304T200000
DTSTAMP:20260420T105338
CREATED:20250907T163212Z
LAST-MODIFIED:20260412T152247Z
UID:10000667-1772649900-1772654400@thehowchurch.org
SUMMARY:Wednesday Night Fellowship
DESCRIPTION:Adult Bible study in the Heart of Worship sanctuary beginning at 7:00pm.
URL:https://thehowchurch.org/event/wednesday-night-fellowship/2026-03-04/
LOCATION:Heart of Worship Church\, 10628 US Highway 301\, Dade City\, FL\, 33525\, United States
GEO:28.3123947;-82.1868517
X-APPLE-STRUCTURED-LOCATION;VALUE=URI;X-ADDRESS=Heart of Worship Church 10628 US Highway 301 Dade City FL 33525 United States;X-APPLE-RADIUS=500;X-TITLE=10628 US Highway 301:geo:-82.1868517,28.3123947
END:VEVENT
BEGIN:VEVENT
DTSTART;TZID=America/New_York:20260301T110000
DTEND;TZID=America/New_York:20260301T123000
DTSTAMP:20260420T105338
CREATED:20160613T171114Z
LAST-MODIFIED:20250907T163436Z
UID:10000985-1772362800-1772368200@thehowchurch.org
SUMMARY:Service @ 11:00AM
DESCRIPTION:
URL:https://thehowchurch.org/event/service-1100am-21/2026-03-01/
LOCATION:Heart of Worship Church\, 10628 US Highway 301\, Dade City\, FL\, 33525\, United States
GEO:28.3123947;-82.1868517
X-APPLE-STRUCTURED-LOCATION;VALUE=URI;X-ADDRESS=Heart of Worship Church 10628 US Highway 301 Dade City FL 33525 United States;X-APPLE-RADIUS=500;X-TITLE=10628 US Highway 301:geo:-82.1868517,28.3123947
END:VEVENT
BEGIN:VEVENT
DTSTART;TZID=America/New_York:20260228T100000
DTEND;TZID=America/New_York:20260228T120000
DTSTAMP:20260420T105338
CREATED:20240928T151740Z
LAST-MODIFIED:20250722T230514Z
UID:10000484-1772272800-1772280000@thehowchurch.org
SUMMARY:Care & Share Ministry
DESCRIPTION:Please join us from 10am-1pm at Hibiscus Park
URL:https://thehowchurch.org/event/care-share-ministry/2026-02-28/
LOCATION:Heart of Worship Church\, 10628 US Highway 301\, Dade City\, FL\, 33525\, United States
GEO:28.3123947;-82.1868517
X-APPLE-STRUCTURED-LOCATION;VALUE=URI;X-ADDRESS=Heart of Worship Church 10628 US Highway 301 Dade City FL 33525 United States;X-APPLE-RADIUS=500;X-TITLE=10628 US Highway 301:geo:-82.1868517,28.3123947
END:VEVENT
BEGIN:VEVENT
DTSTART;TZID=America/New_York:20260225T184500
DTEND;TZID=America/New_York:20260225T200000
DTSTAMP:20260420T105338
CREATED:20250907T163212Z
LAST-MODIFIED:20260412T152247Z
UID:10000666-1772045100-1772049600@thehowchurch.org
SUMMARY:Wednesday Night Fellowship
DESCRIPTION:Adult Bible study in the Heart of Worship sanctuary beginning at 7:00pm.
URL:https://thehowchurch.org/event/wednesday-night-fellowship/2026-02-25/
LOCATION:Heart of Worship Church\, 10628 US Highway 301\, Dade City\, FL\, 33525\, United States
GEO:28.3123947;-82.1868517
X-APPLE-STRUCTURED-LOCATION;VALUE=URI;X-ADDRESS=Heart of Worship Church 10628 US Highway 301 Dade City FL 33525 United States;X-APPLE-RADIUS=500;X-TITLE=10628 US Highway 301:geo:-82.1868517,28.3123947
END:VEVENT
BEGIN:VEVENT
DTSTART;TZID=America/New_York:20260222T110000
DTEND;TZID=America/New_York:20260222T123000
DTSTAMP:20260420T105338
CREATED:20160613T171114Z
LAST-MODIFIED:20250907T163436Z
UID:10000984-1771758000-1771763400@thehowchurch.org
SUMMARY:Service @ 11:00AM
DESCRIPTION:
URL:https://thehowchurch.org/event/service-1100am-21/2026-02-22/
LOCATION:Heart of Worship Church\, 10628 US Highway 301\, Dade City\, FL\, 33525\, United States
GEO:28.3123947;-82.1868517
X-APPLE-STRUCTURED-LOCATION;VALUE=URI;X-ADDRESS=Heart of Worship Church 10628 US Highway 301 Dade City FL 33525 United States;X-APPLE-RADIUS=500;X-TITLE=10628 US Highway 301:geo:-82.1868517,28.3123947
END:VEVENT
BEGIN:VEVENT
DTSTART;TZID=America/New_York:20260218T184500
DTEND;TZID=America/New_York:20260218T200000
DTSTAMP:20260420T105338
CREATED:20250907T163212Z
LAST-MODIFIED:20260412T152247Z
UID:10000665-1771440300-1771444800@thehowchurch.org
SUMMARY:Wednesday Night Fellowship
DESCRIPTION:Adult Bible study in the Heart of Worship sanctuary beginning at 7:00pm.
URL:https://thehowchurch.org/event/wednesday-night-fellowship/2026-02-18/
LOCATION:Heart of Worship Church\, 10628 US Highway 301\, Dade City\, FL\, 33525\, United States
GEO:28.3123947;-82.1868517
X-APPLE-STRUCTURED-LOCATION;VALUE=URI;X-ADDRESS=Heart of Worship Church 10628 US Highway 301 Dade City FL 33525 United States;X-APPLE-RADIUS=500;X-TITLE=10628 US Highway 301:geo:-82.1868517,28.3123947
END:VEVENT
BEGIN:VEVENT
DTSTART;TZID=America/New_York:20260215T110000
DTEND;TZID=America/New_York:20260215T123000
DTSTAMP:20260420T105338
CREATED:20160613T171114Z
LAST-MODIFIED:20250907T163436Z
UID:10000983-1771153200-1771158600@thehowchurch.org
SUMMARY:Service @ 11:00AM
DESCRIPTION:
URL:https://thehowchurch.org/event/service-1100am-21/2026-02-15/
LOCATION:Heart of Worship Church\, 10628 US Highway 301\, Dade City\, FL\, 33525\, United States
GEO:28.3123947;-82.1868517
X-APPLE-STRUCTURED-LOCATION;VALUE=URI;X-ADDRESS=Heart of Worship Church 10628 US Highway 301 Dade City FL 33525 United States;X-APPLE-RADIUS=500;X-TITLE=10628 US Highway 301:geo:-82.1868517,28.3123947
END:VEVENT
BEGIN:VEVENT
DTSTART;TZID=America/New_York:20260211T184500
DTEND;TZID=America/New_York:20260211T200000
DTSTAMP:20260420T105338
CREATED:20250907T163212Z
LAST-MODIFIED:20260412T152247Z
UID:10000664-1770835500-1770840000@thehowchurch.org
SUMMARY:Wednesday Night Fellowship
DESCRIPTION:Adult Bible study in the Heart of Worship sanctuary beginning at 7:00pm.
URL:https://thehowchurch.org/event/wednesday-night-fellowship/2026-02-11/
LOCATION:Heart of Worship Church\, 10628 US Highway 301\, Dade City\, FL\, 33525\, United States
GEO:28.3123947;-82.1868517
X-APPLE-STRUCTURED-LOCATION;VALUE=URI;X-ADDRESS=Heart of Worship Church 10628 US Highway 301 Dade City FL 33525 United States;X-APPLE-RADIUS=500;X-TITLE=10628 US Highway 301:geo:-82.1868517,28.3123947
END:VEVENT
END:VCALENDAR