BEGIN:VCALENDAR
VERSION:2.0
PRODID:-//Heart of Worship Church - ECPv6.15.20//NONSGML v1.0//EN
CALSCALE:GREGORIAN
METHOD:PUBLISH
X-WR-CALNAME:Heart of Worship Church
X-ORIGINAL-URL:https://thehowchurch.org
X-WR-CALDESC:Events for Heart of Worship Church
REFRESH-INTERVAL;VALUE=DURATION:PT1H
X-Robots-Tag:noindex
X-PUBLISHED-TTL:PT1H
BEGIN:VTIMEZONE
TZID:America/New_York
BEGIN:DAYLIGHT
TZOFFSETFROM:-0500
TZOFFSETTO:-0400
TZNAME:EDT
DTSTART:20250309T070000
END:DAYLIGHT
BEGIN:STANDARD
TZOFFSETFROM:-0400
TZOFFSETTO:-0500
TZNAME:EST
DTSTART:20251102T060000
END:STANDARD
BEGIN:DAYLIGHT
TZOFFSETFROM:-0500
TZOFFSETTO:-0400
TZNAME:EDT
DTSTART:20260308T070000
END:DAYLIGHT
BEGIN:STANDARD
TZOFFSETFROM:-0400
TZOFFSETTO:-0500
TZNAME:EST
DTSTART:20261101T060000
END:STANDARD
BEGIN:DAYLIGHT
TZOFFSETFROM:-0500
TZOFFSETTO:-0400
TZNAME:EDT
DTSTART:20270314T070000
END:DAYLIGHT
BEGIN:STANDARD
TZOFFSETFROM:-0400
TZOFFSETTO:-0500
TZNAME:EST
DTSTART:20271107T060000
END:STANDARD
END:VTIMEZONE
BEGIN:VEVENT
DTSTART;TZID=America/New_York:20260429T184500
DTEND;TZID=America/New_York:20260429T200000
DTSTAMP:20260420T012428
CREATED:20250907T163212Z
LAST-MODIFIED:20260412T152247Z
UID:10000675-1777488300-1777492800@thehowchurch.org
SUMMARY:Wednesday Night Fellowship
DESCRIPTION:Adult Bible study in the Heart of Worship sanctuary beginning at 7:00pm.
URL:https://thehowchurch.org/event/wednesday-night-fellowship/2026-04-29/
LOCATION:Heart of Worship Church\, 10628 US Highway 301\, Dade City\, FL\, 33525\, United States
GEO:28.3123947;-82.1868517
X-APPLE-STRUCTURED-LOCATION;VALUE=URI;X-ADDRESS=Heart of Worship Church 10628 US Highway 301 Dade City FL 33525 United States;X-APPLE-RADIUS=500;X-TITLE=10628 US Highway 301:geo:-82.1868517,28.3123947
END:VEVENT
BEGIN:VEVENT
DTSTART;TZID=America/New_York:20260503T110000
DTEND;TZID=America/New_York:20260503T123000
DTSTAMP:20260420T012428
CREATED:20160613T171114Z
LAST-MODIFIED:20250907T163436Z
UID:10000994-1777806000-1777811400@thehowchurch.org
SUMMARY:Service @ 11:00AM
DESCRIPTION:
URL:https://thehowchurch.org/event/service-1100am-21/2026-05-03/
LOCATION:Heart of Worship Church\, 10628 US Highway 301\, Dade City\, FL\, 33525\, United States
GEO:28.3123947;-82.1868517
X-APPLE-STRUCTURED-LOCATION;VALUE=URI;X-ADDRESS=Heart of Worship Church 10628 US Highway 301 Dade City FL 33525 United States;X-APPLE-RADIUS=500;X-TITLE=10628 US Highway 301:geo:-82.1868517,28.3123947
END:VEVENT
BEGIN:VEVENT
DTSTART;TZID=America/New_York:20260506T184500
DTEND;TZID=America/New_York:20260506T200000
DTSTAMP:20260420T012428
CREATED:20250907T163212Z
LAST-MODIFIED:20260412T152247Z
UID:10000676-1778093100-1778097600@thehowchurch.org
SUMMARY:Wednesday Night Fellowship
DESCRIPTION:Adult Bible study in the Heart of Worship sanctuary beginning at 7:00pm.
URL:https://thehowchurch.org/event/wednesday-night-fellowship/2026-05-06/
LOCATION:Heart of Worship Church\, 10628 US Highway 301\, Dade City\, FL\, 33525\, United States
GEO:28.3123947;-82.1868517
X-APPLE-STRUCTURED-LOCATION;VALUE=URI;X-ADDRESS=Heart of Worship Church 10628 US Highway 301 Dade City FL 33525 United States;X-APPLE-RADIUS=500;X-TITLE=10628 US Highway 301:geo:-82.1868517,28.3123947
END:VEVENT
BEGIN:VEVENT
DTSTART;TZID=America/New_York:20260510T110000
DTEND;TZID=America/New_York:20260510T123000
DTSTAMP:20260420T012428
CREATED:20160613T171114Z
LAST-MODIFIED:20250907T163436Z
UID:10000995-1778410800-1778416200@thehowchurch.org
SUMMARY:Service @ 11:00AM
DESCRIPTION:
URL:https://thehowchurch.org/event/service-1100am-21/2026-05-10/
LOCATION:Heart of Worship Church\, 10628 US Highway 301\, Dade City\, FL\, 33525\, United States
GEO:28.3123947;-82.1868517
X-APPLE-STRUCTURED-LOCATION;VALUE=URI;X-ADDRESS=Heart of Worship Church 10628 US Highway 301 Dade City FL 33525 United States;X-APPLE-RADIUS=500;X-TITLE=10628 US Highway 301:geo:-82.1868517,28.3123947
END:VEVENT
BEGIN:VEVENT
DTSTART;TZID=America/New_York:20260513T184500
DTEND;TZID=America/New_York:20260513T200000
DTSTAMP:20260420T012428
CREATED:20250907T163212Z
LAST-MODIFIED:20260412T152247Z
UID:10000677-1778697900-1778702400@thehowchurch.org
SUMMARY:Wednesday Night Fellowship
DESCRIPTION:Adult Bible study in the Heart of Worship sanctuary beginning at 7:00pm.
URL:https://thehowchurch.org/event/wednesday-night-fellowship/2026-05-13/
LOCATION:Heart of Worship Church\, 10628 US Highway 301\, Dade City\, FL\, 33525\, United States
GEO:28.3123947;-82.1868517
X-APPLE-STRUCTURED-LOCATION;VALUE=URI;X-ADDRESS=Heart of Worship Church 10628 US Highway 301 Dade City FL 33525 United States;X-APPLE-RADIUS=500;X-TITLE=10628 US Highway 301:geo:-82.1868517,28.3123947
END:VEVENT
BEGIN:VEVENT
DTSTART;TZID=America/New_York:20260517T110000
DTEND;TZID=America/New_York:20260517T123000
DTSTAMP:20260420T012428
CREATED:20160613T171114Z
LAST-MODIFIED:20250907T163436Z
UID:10000996-1779015600-1779021000@thehowchurch.org
SUMMARY:Service @ 11:00AM
DESCRIPTION:
URL:https://thehowchurch.org/event/service-1100am-21/2026-05-17/
LOCATION:Heart of Worship Church\, 10628 US Highway 301\, Dade City\, FL\, 33525\, United States
GEO:28.3123947;-82.1868517
X-APPLE-STRUCTURED-LOCATION;VALUE=URI;X-ADDRESS=Heart of Worship Church 10628 US Highway 301 Dade City FL 33525 United States;X-APPLE-RADIUS=500;X-TITLE=10628 US Highway 301:geo:-82.1868517,28.3123947
END:VEVENT
BEGIN:VEVENT
DTSTART;TZID=America/New_York:20260520T184500
DTEND;TZID=America/New_York:20260520T200000
DTSTAMP:20260420T012428
CREATED:20250907T163212Z
LAST-MODIFIED:20260412T152247Z
UID:10000678-1779302700-1779307200@thehowchurch.org
SUMMARY:Wednesday Night Fellowship
DESCRIPTION:Adult Bible study in the Heart of Worship sanctuary beginning at 7:00pm.
URL:https://thehowchurch.org/event/wednesday-night-fellowship/2026-05-20/
LOCATION:Heart of Worship Church\, 10628 US Highway 301\, Dade City\, FL\, 33525\, United States
GEO:28.3123947;-82.1868517
X-APPLE-STRUCTURED-LOCATION;VALUE=URI;X-ADDRESS=Heart of Worship Church 10628 US Highway 301 Dade City FL 33525 United States;X-APPLE-RADIUS=500;X-TITLE=10628 US Highway 301:geo:-82.1868517,28.3123947
END:VEVENT
BEGIN:VEVENT
DTSTART;TZID=America/New_York:20260524T110000
DTEND;TZID=America/New_York:20260524T123000
DTSTAMP:20260420T012428
CREATED:20160613T171114Z
LAST-MODIFIED:20250907T163436Z
UID:10000997-1779620400-1779625800@thehowchurch.org
SUMMARY:Service @ 11:00AM
DESCRIPTION:
URL:https://thehowchurch.org/event/service-1100am-21/2026-05-24/
LOCATION:Heart of Worship Church\, 10628 US Highway 301\, Dade City\, FL\, 33525\, United States
GEO:28.3123947;-82.1868517
X-APPLE-STRUCTURED-LOCATION;VALUE=URI;X-ADDRESS=Heart of Worship Church 10628 US Highway 301 Dade City FL 33525 United States;X-APPLE-RADIUS=500;X-TITLE=10628 US Highway 301:geo:-82.1868517,28.3123947
END:VEVENT
BEGIN:VEVENT
DTSTART;TZID=America/New_York:20260527T184500
DTEND;TZID=America/New_York:20260527T200000
DTSTAMP:20260420T012428
CREATED:20250907T163212Z
LAST-MODIFIED:20260412T152247Z
UID:10000679-1779907500-1779912000@thehowchurch.org
SUMMARY:Wednesday Night Fellowship
DESCRIPTION:Adult Bible study in the Heart of Worship sanctuary beginning at 7:00pm.
URL:https://thehowchurch.org/event/wednesday-night-fellowship/2026-05-27/
LOCATION:Heart of Worship Church\, 10628 US Highway 301\, Dade City\, FL\, 33525\, United States
GEO:28.3123947;-82.1868517
X-APPLE-STRUCTURED-LOCATION;VALUE=URI;X-ADDRESS=Heart of Worship Church 10628 US Highway 301 Dade City FL 33525 United States;X-APPLE-RADIUS=500;X-TITLE=10628 US Highway 301:geo:-82.1868517,28.3123947
END:VEVENT
BEGIN:VEVENT
DTSTART;TZID=America/New_York:20260530T100000
DTEND;TZID=America/New_York:20260530T120000
DTSTAMP:20260420T012428
CREATED:20240928T151740Z
LAST-MODIFIED:20250722T230514Z
UID:10000487-1780135200-1780142400@thehowchurch.org
SUMMARY:Care & Share Ministry
DESCRIPTION:Please join us from 10am-1pm at Hibiscus Park
URL:https://thehowchurch.org/event/care-share-ministry/2026-05-30/
LOCATION:Heart of Worship Church\, 10628 US Highway 301\, Dade City\, FL\, 33525\, United States
GEO:28.3123947;-82.1868517
X-APPLE-STRUCTURED-LOCATION;VALUE=URI;X-ADDRESS=Heart of Worship Church 10628 US Highway 301 Dade City FL 33525 United States;X-APPLE-RADIUS=500;X-TITLE=10628 US Highway 301:geo:-82.1868517,28.3123947
END:VEVENT
BEGIN:VEVENT
DTSTART;TZID=America/New_York:20260531T110000
DTEND;TZID=America/New_York:20260531T123000
DTSTAMP:20260420T012428
CREATED:20160613T171114Z
LAST-MODIFIED:20250907T163436Z
UID:10000998-1780225200-1780230600@thehowchurch.org
SUMMARY:Service @ 11:00AM
DESCRIPTION:
URL:https://thehowchurch.org/event/service-1100am-21/2026-05-31/
LOCATION:Heart of Worship Church\, 10628 US Highway 301\, Dade City\, FL\, 33525\, United States
GEO:28.3123947;-82.1868517
X-APPLE-STRUCTURED-LOCATION;VALUE=URI;X-ADDRESS=Heart of Worship Church 10628 US Highway 301 Dade City FL 33525 United States;X-APPLE-RADIUS=500;X-TITLE=10628 US Highway 301:geo:-82.1868517,28.3123947
END:VEVENT
BEGIN:VEVENT
DTSTART;TZID=America/New_York:20260603T184500
DTEND;TZID=America/New_York:20260603T200000
DTSTAMP:20260420T012428
CREATED:20250907T163212Z
LAST-MODIFIED:20260412T152247Z
UID:10000680-1780512300-1780516800@thehowchurch.org
SUMMARY:Wednesday Night Fellowship
DESCRIPTION:Adult Bible study in the Heart of Worship sanctuary beginning at 7:00pm.
URL:https://thehowchurch.org/event/wednesday-night-fellowship/2026-06-03/
LOCATION:Heart of Worship Church\, 10628 US Highway 301\, Dade City\, FL\, 33525\, United States
GEO:28.3123947;-82.1868517
X-APPLE-STRUCTURED-LOCATION;VALUE=URI;X-ADDRESS=Heart of Worship Church 10628 US Highway 301 Dade City FL 33525 United States;X-APPLE-RADIUS=500;X-TITLE=10628 US Highway 301:geo:-82.1868517,28.3123947
END:VEVENT
BEGIN:VEVENT
DTSTART;TZID=America/New_York:20260607T110000
DTEND;TZID=America/New_York:20260607T123000
DTSTAMP:20260420T012428
CREATED:20160613T171114Z
LAST-MODIFIED:20250907T163436Z
UID:10000999-1780830000-1780835400@thehowchurch.org
SUMMARY:Service @ 11:00AM
DESCRIPTION:
URL:https://thehowchurch.org/event/service-1100am-21/2026-06-07/
LOCATION:Heart of Worship Church\, 10628 US Highway 301\, Dade City\, FL\, 33525\, United States
GEO:28.3123947;-82.1868517
X-APPLE-STRUCTURED-LOCATION;VALUE=URI;X-ADDRESS=Heart of Worship Church 10628 US Highway 301 Dade City FL 33525 United States;X-APPLE-RADIUS=500;X-TITLE=10628 US Highway 301:geo:-82.1868517,28.3123947
END:VEVENT
BEGIN:VEVENT
DTSTART;TZID=America/New_York:20260610T184500
DTEND;TZID=America/New_York:20260610T200000
DTSTAMP:20260420T012428
CREATED:20250907T163212Z
LAST-MODIFIED:20260412T152247Z
UID:10000681-1781117100-1781121600@thehowchurch.org
SUMMARY:Wednesday Night Fellowship
DESCRIPTION:Adult Bible study in the Heart of Worship sanctuary beginning at 7:00pm.
URL:https://thehowchurch.org/event/wednesday-night-fellowship/2026-06-10/
LOCATION:Heart of Worship Church\, 10628 US Highway 301\, Dade City\, FL\, 33525\, United States
GEO:28.3123947;-82.1868517
X-APPLE-STRUCTURED-LOCATION;VALUE=URI;X-ADDRESS=Heart of Worship Church 10628 US Highway 301 Dade City FL 33525 United States;X-APPLE-RADIUS=500;X-TITLE=10628 US Highway 301:geo:-82.1868517,28.3123947
END:VEVENT
BEGIN:VEVENT
DTSTART;TZID=America/New_York:20260614T110000
DTEND;TZID=America/New_York:20260614T123000
DTSTAMP:20260420T012428
CREATED:20160613T171114Z
LAST-MODIFIED:20250907T163436Z
UID:10001000-1781434800-1781440200@thehowchurch.org
SUMMARY:Service @ 11:00AM
DESCRIPTION:
URL:https://thehowchurch.org/event/service-1100am-21/2026-06-14/
LOCATION:Heart of Worship Church\, 10628 US Highway 301\, Dade City\, FL\, 33525\, United States
GEO:28.3123947;-82.1868517
X-APPLE-STRUCTURED-LOCATION;VALUE=URI;X-ADDRESS=Heart of Worship Church 10628 US Highway 301 Dade City FL 33525 United States;X-APPLE-RADIUS=500;X-TITLE=10628 US Highway 301:geo:-82.1868517,28.3123947
END:VEVENT
BEGIN:VEVENT
DTSTART;TZID=America/New_York:20260617T184500
DTEND;TZID=America/New_York:20260617T200000
DTSTAMP:20260420T012428
CREATED:20250907T163212Z
LAST-MODIFIED:20260412T152247Z
UID:10000682-1781721900-1781726400@thehowchurch.org
SUMMARY:Wednesday Night Fellowship
DESCRIPTION:Adult Bible study in the Heart of Worship sanctuary beginning at 7:00pm.
URL:https://thehowchurch.org/event/wednesday-night-fellowship/2026-06-17/
LOCATION:Heart of Worship Church\, 10628 US Highway 301\, Dade City\, FL\, 33525\, United States
GEO:28.3123947;-82.1868517
X-APPLE-STRUCTURED-LOCATION;VALUE=URI;X-ADDRESS=Heart of Worship Church 10628 US Highway 301 Dade City FL 33525 United States;X-APPLE-RADIUS=500;X-TITLE=10628 US Highway 301:geo:-82.1868517,28.3123947
END:VEVENT
BEGIN:VEVENT
DTSTART;TZID=America/New_York:20260621T110000
DTEND;TZID=America/New_York:20260621T123000
DTSTAMP:20260420T012428
CREATED:20160613T171114Z
LAST-MODIFIED:20250907T163436Z
UID:10001001-1782039600-1782045000@thehowchurch.org
SUMMARY:Service @ 11:00AM
DESCRIPTION:
URL:https://thehowchurch.org/event/service-1100am-21/2026-06-21/
LOCATION:Heart of Worship Church\, 10628 US Highway 301\, Dade City\, FL\, 33525\, United States
GEO:28.3123947;-82.1868517
X-APPLE-STRUCTURED-LOCATION;VALUE=URI;X-ADDRESS=Heart of Worship Church 10628 US Highway 301 Dade City FL 33525 United States;X-APPLE-RADIUS=500;X-TITLE=10628 US Highway 301:geo:-82.1868517,28.3123947
END:VEVENT
BEGIN:VEVENT
DTSTART;TZID=America/New_York:20260624T184500
DTEND;TZID=America/New_York:20260624T200000
DTSTAMP:20260420T012428
CREATED:20250907T163212Z
LAST-MODIFIED:20260412T152247Z
UID:10000683-1782326700-1782331200@thehowchurch.org
SUMMARY:Wednesday Night Fellowship
DESCRIPTION:Adult Bible study in the Heart of Worship sanctuary beginning at 7:00pm.
URL:https://thehowchurch.org/event/wednesday-night-fellowship/2026-06-24/
LOCATION:Heart of Worship Church\, 10628 US Highway 301\, Dade City\, FL\, 33525\, United States
GEO:28.3123947;-82.1868517
X-APPLE-STRUCTURED-LOCATION;VALUE=URI;X-ADDRESS=Heart of Worship Church 10628 US Highway 301 Dade City FL 33525 United States;X-APPLE-RADIUS=500;X-TITLE=10628 US Highway 301:geo:-82.1868517,28.3123947
END:VEVENT
BEGIN:VEVENT
DTSTART;TZID=America/New_York:20260627T100000
DTEND;TZID=America/New_York:20260627T120000
DTSTAMP:20260420T012428
CREATED:20240928T151740Z
LAST-MODIFIED:20250722T230514Z
UID:10000488-1782554400-1782561600@thehowchurch.org
SUMMARY:Care & Share Ministry
DESCRIPTION:Please join us from 10am-1pm at Hibiscus Park
URL:https://thehowchurch.org/event/care-share-ministry/2026-06-27/
LOCATION:Heart of Worship Church\, 10628 US Highway 301\, Dade City\, FL\, 33525\, United States
GEO:28.3123947;-82.1868517
X-APPLE-STRUCTURED-LOCATION;VALUE=URI;X-ADDRESS=Heart of Worship Church 10628 US Highway 301 Dade City FL 33525 United States;X-APPLE-RADIUS=500;X-TITLE=10628 US Highway 301:geo:-82.1868517,28.3123947
END:VEVENT
BEGIN:VEVENT
DTSTART;TZID=America/New_York:20260628T110000
DTEND;TZID=America/New_York:20260628T123000
DTSTAMP:20260420T012428
CREATED:20160613T171114Z
LAST-MODIFIED:20250907T163436Z
UID:10001002-1782644400-1782649800@thehowchurch.org
SUMMARY:Service @ 11:00AM
DESCRIPTION:
URL:https://thehowchurch.org/event/service-1100am-21/2026-06-28/
LOCATION:Heart of Worship Church\, 10628 US Highway 301\, Dade City\, FL\, 33525\, United States
GEO:28.3123947;-82.1868517
X-APPLE-STRUCTURED-LOCATION;VALUE=URI;X-ADDRESS=Heart of Worship Church 10628 US Highway 301 Dade City FL 33525 United States;X-APPLE-RADIUS=500;X-TITLE=10628 US Highway 301:geo:-82.1868517,28.3123947
END:VEVENT
BEGIN:VEVENT
DTSTART;TZID=America/New_York:20260701T184500
DTEND;TZID=America/New_York:20260701T200000
DTSTAMP:20260420T012428
CREATED:20250907T163212Z
LAST-MODIFIED:20260412T152247Z
UID:10000684-1782931500-1782936000@thehowchurch.org
SUMMARY:Wednesday Night Fellowship
DESCRIPTION:Adult Bible study in the Heart of Worship sanctuary beginning at 7:00pm.
URL:https://thehowchurch.org/event/wednesday-night-fellowship/2026-07-01/
LOCATION:Heart of Worship Church\, 10628 US Highway 301\, Dade City\, FL\, 33525\, United States
GEO:28.3123947;-82.1868517
X-APPLE-STRUCTURED-LOCATION;VALUE=URI;X-ADDRESS=Heart of Worship Church 10628 US Highway 301 Dade City FL 33525 United States;X-APPLE-RADIUS=500;X-TITLE=10628 US Highway 301:geo:-82.1868517,28.3123947
END:VEVENT
BEGIN:VEVENT
DTSTART;TZID=America/New_York:20260705T110000
DTEND;TZID=America/New_York:20260705T123000
DTSTAMP:20260420T012428
CREATED:20160613T171114Z
LAST-MODIFIED:20250907T163436Z
UID:10001003-1783249200-1783254600@thehowchurch.org
SUMMARY:Service @ 11:00AM
DESCRIPTION:
URL:https://thehowchurch.org/event/service-1100am-21/2026-07-05/
LOCATION:Heart of Worship Church\, 10628 US Highway 301\, Dade City\, FL\, 33525\, United States
GEO:28.3123947;-82.1868517
X-APPLE-STRUCTURED-LOCATION;VALUE=URI;X-ADDRESS=Heart of Worship Church 10628 US Highway 301 Dade City FL 33525 United States;X-APPLE-RADIUS=500;X-TITLE=10628 US Highway 301:geo:-82.1868517,28.3123947
END:VEVENT
BEGIN:VEVENT
DTSTART;TZID=America/New_York:20260708T184500
DTEND;TZID=America/New_York:20260708T200000
DTSTAMP:20260420T012428
CREATED:20250907T163212Z
LAST-MODIFIED:20260412T152247Z
UID:10000685-1783536300-1783540800@thehowchurch.org
SUMMARY:Wednesday Night Fellowship
DESCRIPTION:Adult Bible study in the Heart of Worship sanctuary beginning at 7:00pm.
URL:https://thehowchurch.org/event/wednesday-night-fellowship/2026-07-08/
LOCATION:Heart of Worship Church\, 10628 US Highway 301\, Dade City\, FL\, 33525\, United States
GEO:28.3123947;-82.1868517
X-APPLE-STRUCTURED-LOCATION;VALUE=URI;X-ADDRESS=Heart of Worship Church 10628 US Highway 301 Dade City FL 33525 United States;X-APPLE-RADIUS=500;X-TITLE=10628 US Highway 301:geo:-82.1868517,28.3123947
END:VEVENT
BEGIN:VEVENT
DTSTART;TZID=America/New_York:20260712T110000
DTEND;TZID=America/New_York:20260712T123000
DTSTAMP:20260420T012428
CREATED:20160613T171114Z
LAST-MODIFIED:20250907T163436Z
UID:10001004-1783854000-1783859400@thehowchurch.org
SUMMARY:Service @ 11:00AM
DESCRIPTION:
URL:https://thehowchurch.org/event/service-1100am-21/2026-07-12/
LOCATION:Heart of Worship Church\, 10628 US Highway 301\, Dade City\, FL\, 33525\, United States
GEO:28.3123947;-82.1868517
X-APPLE-STRUCTURED-LOCATION;VALUE=URI;X-ADDRESS=Heart of Worship Church 10628 US Highway 301 Dade City FL 33525 United States;X-APPLE-RADIUS=500;X-TITLE=10628 US Highway 301:geo:-82.1868517,28.3123947
END:VEVENT
BEGIN:VEVENT
DTSTART;TZID=America/New_York:20260715T184500
DTEND;TZID=America/New_York:20260715T200000
DTSTAMP:20260420T012428
CREATED:20250907T163212Z
LAST-MODIFIED:20260412T152247Z
UID:10000686-1784141100-1784145600@thehowchurch.org
SUMMARY:Wednesday Night Fellowship
DESCRIPTION:Adult Bible study in the Heart of Worship sanctuary beginning at 7:00pm.
URL:https://thehowchurch.org/event/wednesday-night-fellowship/2026-07-15/
LOCATION:Heart of Worship Church\, 10628 US Highway 301\, Dade City\, FL\, 33525\, United States
GEO:28.3123947;-82.1868517
X-APPLE-STRUCTURED-LOCATION;VALUE=URI;X-ADDRESS=Heart of Worship Church 10628 US Highway 301 Dade City FL 33525 United States;X-APPLE-RADIUS=500;X-TITLE=10628 US Highway 301:geo:-82.1868517,28.3123947
END:VEVENT
BEGIN:VEVENT
DTSTART;TZID=America/New_York:20260719T110000
DTEND;TZID=America/New_York:20260719T123000
DTSTAMP:20260420T012428
CREATED:20160613T171114Z
LAST-MODIFIED:20250907T163436Z
UID:10001005-1784458800-1784464200@thehowchurch.org
SUMMARY:Service @ 11:00AM
DESCRIPTION:
URL:https://thehowchurch.org/event/service-1100am-21/2026-07-19/
LOCATION:Heart of Worship Church\, 10628 US Highway 301\, Dade City\, FL\, 33525\, United States
GEO:28.3123947;-82.1868517
X-APPLE-STRUCTURED-LOCATION;VALUE=URI;X-ADDRESS=Heart of Worship Church 10628 US Highway 301 Dade City FL 33525 United States;X-APPLE-RADIUS=500;X-TITLE=10628 US Highway 301:geo:-82.1868517,28.3123947
END:VEVENT
BEGIN:VEVENT
DTSTART;TZID=America/New_York:20260722T184500
DTEND;TZID=America/New_York:20260722T200000
DTSTAMP:20260420T012428
CREATED:20250907T163212Z
LAST-MODIFIED:20260412T152247Z
UID:10000687-1784745900-1784750400@thehowchurch.org
SUMMARY:Wednesday Night Fellowship
DESCRIPTION:Adult Bible study in the Heart of Worship sanctuary beginning at 7:00pm.
URL:https://thehowchurch.org/event/wednesday-night-fellowship/2026-07-22/
LOCATION:Heart of Worship Church\, 10628 US Highway 301\, Dade City\, FL\, 33525\, United States
GEO:28.3123947;-82.1868517
X-APPLE-STRUCTURED-LOCATION;VALUE=URI;X-ADDRESS=Heart of Worship Church 10628 US Highway 301 Dade City FL 33525 United States;X-APPLE-RADIUS=500;X-TITLE=10628 US Highway 301:geo:-82.1868517,28.3123947
END:VEVENT
BEGIN:VEVENT
DTSTART;TZID=America/New_York:20260725T100000
DTEND;TZID=America/New_York:20260725T120000
DTSTAMP:20260420T012428
CREATED:20240928T151740Z
LAST-MODIFIED:20250722T230514Z
UID:10000489-1784973600-1784980800@thehowchurch.org
SUMMARY:Care & Share Ministry
DESCRIPTION:Please join us from 10am-1pm at Hibiscus Park
URL:https://thehowchurch.org/event/care-share-ministry/2026-07-25/
LOCATION:Heart of Worship Church\, 10628 US Highway 301\, Dade City\, FL\, 33525\, United States
GEO:28.3123947;-82.1868517
X-APPLE-STRUCTURED-LOCATION;VALUE=URI;X-ADDRESS=Heart of Worship Church 10628 US Highway 301 Dade City FL 33525 United States;X-APPLE-RADIUS=500;X-TITLE=10628 US Highway 301:geo:-82.1868517,28.3123947
END:VEVENT
BEGIN:VEVENT
DTSTART;TZID=America/New_York:20260726T110000
DTEND;TZID=America/New_York:20260726T123000
DTSTAMP:20260420T012428
CREATED:20160613T171114Z
LAST-MODIFIED:20250907T163436Z
UID:10001006-1785063600-1785069000@thehowchurch.org
SUMMARY:Service @ 11:00AM
DESCRIPTION:
URL:https://thehowchurch.org/event/service-1100am-21/2026-07-26/
LOCATION:Heart of Worship Church\, 10628 US Highway 301\, Dade City\, FL\, 33525\, United States
GEO:28.3123947;-82.1868517
X-APPLE-STRUCTURED-LOCATION;VALUE=URI;X-ADDRESS=Heart of Worship Church 10628 US Highway 301 Dade City FL 33525 United States;X-APPLE-RADIUS=500;X-TITLE=10628 US Highway 301:geo:-82.1868517,28.3123947
END:VEVENT
BEGIN:VEVENT
DTSTART;TZID=America/New_York:20260729T184500
DTEND;TZID=America/New_York:20260729T200000
DTSTAMP:20260420T012428
CREATED:20250907T163212Z
LAST-MODIFIED:20260412T152247Z
UID:10000688-1785350700-1785355200@thehowchurch.org
SUMMARY:Wednesday Night Fellowship
DESCRIPTION:Adult Bible study in the Heart of Worship sanctuary beginning at 7:00pm.
URL:https://thehowchurch.org/event/wednesday-night-fellowship/2026-07-29/
LOCATION:Heart of Worship Church\, 10628 US Highway 301\, Dade City\, FL\, 33525\, United States
GEO:28.3123947;-82.1868517
X-APPLE-STRUCTURED-LOCATION;VALUE=URI;X-ADDRESS=Heart of Worship Church 10628 US Highway 301 Dade City FL 33525 United States;X-APPLE-RADIUS=500;X-TITLE=10628 US Highway 301:geo:-82.1868517,28.3123947
END:VEVENT
END:VCALENDAR