BEGIN:VCALENDAR
VERSION:2.0
PRODID:-//Heart of Worship Church - ECPv6.15.20//NONSGML v1.0//EN
CALSCALE:GREGORIAN
METHOD:PUBLISH
X-WR-CALNAME:Heart of Worship Church
X-ORIGINAL-URL:https://thehowchurch.org
X-WR-CALDESC:Events for Heart of Worship Church
REFRESH-INTERVAL;VALUE=DURATION:PT1H
X-Robots-Tag:noindex
X-PUBLISHED-TTL:PT1H
BEGIN:VTIMEZONE
TZID:America/New_York
BEGIN:DAYLIGHT
TZOFFSETFROM:-0500
TZOFFSETTO:-0400
TZNAME:EDT
DTSTART:20190310T070000
END:DAYLIGHT
BEGIN:STANDARD
TZOFFSETFROM:-0400
TZOFFSETTO:-0500
TZNAME:EST
DTSTART:20191103T060000
END:STANDARD
BEGIN:DAYLIGHT
TZOFFSETFROM:-0500
TZOFFSETTO:-0400
TZNAME:EDT
DTSTART:20200308T070000
END:DAYLIGHT
BEGIN:STANDARD
TZOFFSETFROM:-0400
TZOFFSETTO:-0500
TZNAME:EST
DTSTART:20201101T060000
END:STANDARD
BEGIN:DAYLIGHT
TZOFFSETFROM:-0500
TZOFFSETTO:-0400
TZNAME:EDT
DTSTART:20210314T070000
END:DAYLIGHT
BEGIN:STANDARD
TZOFFSETFROM:-0400
TZOFFSETTO:-0500
TZNAME:EST
DTSTART:20211107T060000
END:STANDARD
BEGIN:DAYLIGHT
TZOFFSETFROM:-0500
TZOFFSETTO:-0400
TZNAME:EDT
DTSTART:20220313T070000
END:DAYLIGHT
BEGIN:STANDARD
TZOFFSETFROM:-0400
TZOFFSETTO:-0500
TZNAME:EST
DTSTART:20221106T060000
END:STANDARD
BEGIN:DAYLIGHT
TZOFFSETFROM:-0500
TZOFFSETTO:-0400
TZNAME:EDT
DTSTART:20230312T070000
END:DAYLIGHT
BEGIN:STANDARD
TZOFFSETFROM:-0400
TZOFFSETTO:-0500
TZNAME:EST
DTSTART:20231105T060000
END:STANDARD
BEGIN:DAYLIGHT
TZOFFSETFROM:-0500
TZOFFSETTO:-0400
TZNAME:EDT
DTSTART:20240310T070000
END:DAYLIGHT
BEGIN:STANDARD
TZOFFSETFROM:-0400
TZOFFSETTO:-0500
TZNAME:EST
DTSTART:20241103T060000
END:STANDARD
BEGIN:DAYLIGHT
TZOFFSETFROM:-0500
TZOFFSETTO:-0400
TZNAME:EDT
DTSTART:20250309T070000
END:DAYLIGHT
BEGIN:STANDARD
TZOFFSETFROM:-0400
TZOFFSETTO:-0500
TZNAME:EST
DTSTART:20251102T060000
END:STANDARD
END:VTIMEZONE
BEGIN:VEVENT
DTSTART;TZID=America/New_York:20241215T110000
DTEND;TZID=America/New_York:20241215T123000
DTSTAMP:20260423T091717
CREATED:20160613T171114Z
LAST-MODIFIED:20250907T163436Z
UID:10000434-1734260400-1734265800@thehowchurch.org
SUMMARY:Service @ 11:00AM
DESCRIPTION:
URL:https://thehowchurch.org/event/service-1100am-21/2024-12-15/
LOCATION:Heart of Worship Church\, 10628 US Highway 301\, Dade City\, FL\, 33525\, United States
GEO:28.3123947;-82.1868517
X-APPLE-STRUCTURED-LOCATION;VALUE=URI;X-ADDRESS=Heart of Worship Church 10628 US Highway 301 Dade City FL 33525 United States;X-APPLE-RADIUS=500;X-TITLE=10628 US Highway 301:geo:-82.1868517,28.3123947
END:VEVENT
BEGIN:VEVENT
DTSTART;TZID=America/New_York:20241208T110000
DTEND;TZID=America/New_York:20241208T123000
DTSTAMP:20260423T091717
CREATED:20160613T171114Z
LAST-MODIFIED:20250907T163436Z
UID:10000433-1733655600-1733661000@thehowchurch.org
SUMMARY:Service @ 11:00AM
DESCRIPTION:
URL:https://thehowchurch.org/event/service-1100am-21/2024-12-08/
LOCATION:Heart of Worship Church\, 10628 US Highway 301\, Dade City\, FL\, 33525\, United States
GEO:28.3123947;-82.1868517
X-APPLE-STRUCTURED-LOCATION;VALUE=URI;X-ADDRESS=Heart of Worship Church 10628 US Highway 301 Dade City FL 33525 United States;X-APPLE-RADIUS=500;X-TITLE=10628 US Highway 301:geo:-82.1868517,28.3123947
END:VEVENT
BEGIN:VEVENT
DTSTART;TZID=America/New_York:20241201T110000
DTEND;TZID=America/New_York:20241201T123000
DTSTAMP:20260423T091717
CREATED:20160613T171114Z
LAST-MODIFIED:20250907T163436Z
UID:10000432-1733050800-1733056200@thehowchurch.org
SUMMARY:Service @ 11:00AM
DESCRIPTION:
URL:https://thehowchurch.org/event/service-1100am-21/2024-12-01/
LOCATION:Heart of Worship Church\, 10628 US Highway 301\, Dade City\, FL\, 33525\, United States
GEO:28.3123947;-82.1868517
X-APPLE-STRUCTURED-LOCATION;VALUE=URI;X-ADDRESS=Heart of Worship Church 10628 US Highway 301 Dade City FL 33525 United States;X-APPLE-RADIUS=500;X-TITLE=10628 US Highway 301:geo:-82.1868517,28.3123947
END:VEVENT
BEGIN:VEVENT
DTSTART;TZID=America/New_York:20241130T100000
DTEND;TZID=America/New_York:20241130T120000
DTSTAMP:20260423T091717
CREATED:20240928T151740Z
LAST-MODIFIED:20250722T230514Z
UID:10000469-1732960800-1732968000@thehowchurch.org
SUMMARY:Care & Share Ministry
DESCRIPTION:Please join us from 10am-1pm at Hibiscus Park
URL:https://thehowchurch.org/event/care-share-ministry/2024-11-30/
LOCATION:Heart of Worship Church\, 10628 US Highway 301\, Dade City\, FL\, 33525\, United States
GEO:28.3123947;-82.1868517
X-APPLE-STRUCTURED-LOCATION;VALUE=URI;X-ADDRESS=Heart of Worship Church 10628 US Highway 301 Dade City FL 33525 United States;X-APPLE-RADIUS=500;X-TITLE=10628 US Highway 301:geo:-82.1868517,28.3123947
END:VEVENT
BEGIN:VEVENT
DTSTART;TZID=America/New_York:20241124T110000
DTEND;TZID=America/New_York:20241124T123000
DTSTAMP:20260423T091717
CREATED:20160613T171114Z
LAST-MODIFIED:20250907T163436Z
UID:10000431-1732446000-1732451400@thehowchurch.org
SUMMARY:Service @ 11:00AM
DESCRIPTION:
URL:https://thehowchurch.org/event/service-1100am-21/2024-11-24/
LOCATION:Heart of Worship Church\, 10628 US Highway 301\, Dade City\, FL\, 33525\, United States
GEO:28.3123947;-82.1868517
X-APPLE-STRUCTURED-LOCATION;VALUE=URI;X-ADDRESS=Heart of Worship Church 10628 US Highway 301 Dade City FL 33525 United States;X-APPLE-RADIUS=500;X-TITLE=10628 US Highway 301:geo:-82.1868517,28.3123947
END:VEVENT
BEGIN:VEVENT
DTSTART;TZID=America/New_York:20241117T110000
DTEND;TZID=America/New_York:20241117T123000
DTSTAMP:20260423T091717
CREATED:20160613T171114Z
LAST-MODIFIED:20250907T163436Z
UID:10000430-1731841200-1731846600@thehowchurch.org
SUMMARY:Service @ 11:00AM
DESCRIPTION:
URL:https://thehowchurch.org/event/service-1100am-21/2024-11-17/
LOCATION:Heart of Worship Church\, 10628 US Highway 301\, Dade City\, FL\, 33525\, United States
GEO:28.3123947;-82.1868517
X-APPLE-STRUCTURED-LOCATION;VALUE=URI;X-ADDRESS=Heart of Worship Church 10628 US Highway 301 Dade City FL 33525 United States;X-APPLE-RADIUS=500;X-TITLE=10628 US Highway 301:geo:-82.1868517,28.3123947
END:VEVENT
BEGIN:VEVENT
DTSTART;TZID=America/New_York:20241110T110000
DTEND;TZID=America/New_York:20241110T123000
DTSTAMP:20260423T091717
CREATED:20160613T171114Z
LAST-MODIFIED:20250907T163436Z
UID:10000429-1731236400-1731241800@thehowchurch.org
SUMMARY:Service @ 11:00AM
DESCRIPTION:
URL:https://thehowchurch.org/event/service-1100am-21/2024-11-10/
LOCATION:Heart of Worship Church\, 10628 US Highway 301\, Dade City\, FL\, 33525\, United States
GEO:28.3123947;-82.1868517
X-APPLE-STRUCTURED-LOCATION;VALUE=URI;X-ADDRESS=Heart of Worship Church 10628 US Highway 301 Dade City FL 33525 United States;X-APPLE-RADIUS=500;X-TITLE=10628 US Highway 301:geo:-82.1868517,28.3123947
END:VEVENT
BEGIN:VEVENT
DTSTART;TZID=America/New_York:20241103T110000
DTEND;TZID=America/New_York:20241103T123000
DTSTAMP:20260423T091717
CREATED:20160613T171114Z
LAST-MODIFIED:20250907T163436Z
UID:10000428-1730631600-1730637000@thehowchurch.org
SUMMARY:Service @ 11:00AM
DESCRIPTION:
URL:https://thehowchurch.org/event/service-1100am-21/2024-11-03/
LOCATION:Heart of Worship Church\, 10628 US Highway 301\, Dade City\, FL\, 33525\, United States
GEO:28.3123947;-82.1868517
X-APPLE-STRUCTURED-LOCATION;VALUE=URI;X-ADDRESS=Heart of Worship Church 10628 US Highway 301 Dade City FL 33525 United States;X-APPLE-RADIUS=500;X-TITLE=10628 US Highway 301:geo:-82.1868517,28.3123947
END:VEVENT
BEGIN:VEVENT
DTSTART;TZID=America/New_York:20241027T110000
DTEND;TZID=America/New_York:20241027T123000
DTSTAMP:20260423T091717
CREATED:20160613T171114Z
LAST-MODIFIED:20250907T163436Z
UID:10000427-1730026800-1730032200@thehowchurch.org
SUMMARY:Service @ 11:00AM
DESCRIPTION:
URL:https://thehowchurch.org/event/service-1100am-21/2024-10-27/
LOCATION:Heart of Worship Church\, 10628 US Highway 301\, Dade City\, FL\, 33525\, United States
GEO:28.3123947;-82.1868517
X-APPLE-STRUCTURED-LOCATION;VALUE=URI;X-ADDRESS=Heart of Worship Church 10628 US Highway 301 Dade City FL 33525 United States;X-APPLE-RADIUS=500;X-TITLE=10628 US Highway 301:geo:-82.1868517,28.3123947
END:VEVENT
BEGIN:VEVENT
DTSTART;TZID=America/New_York:20241026T100000
DTEND;TZID=America/New_York:20241026T120000
DTSTAMP:20260423T091717
CREATED:20240928T151740Z
LAST-MODIFIED:20250722T230514Z
UID:10000468-1729936800-1729944000@thehowchurch.org
SUMMARY:Care & Share Ministry
DESCRIPTION:Please join us from 10am-1pm at Hibiscus Park
URL:https://thehowchurch.org/event/care-share-ministry/2024-10-26/
LOCATION:Heart of Worship Church\, 10628 US Highway 301\, Dade City\, FL\, 33525\, United States
GEO:28.3123947;-82.1868517
X-APPLE-STRUCTURED-LOCATION;VALUE=URI;X-ADDRESS=Heart of Worship Church 10628 US Highway 301 Dade City FL 33525 United States;X-APPLE-RADIUS=500;X-TITLE=10628 US Highway 301:geo:-82.1868517,28.3123947
END:VEVENT
BEGIN:VEVENT
DTSTART;TZID=America/New_York:20241020T110000
DTEND;TZID=America/New_York:20241020T123000
DTSTAMP:20260423T091717
CREATED:20160613T171114Z
LAST-MODIFIED:20250907T163436Z
UID:10000426-1729422000-1729427400@thehowchurch.org
SUMMARY:Service @ 11:00AM
DESCRIPTION:
URL:https://thehowchurch.org/event/service-1100am-21/2024-10-20/
LOCATION:Heart of Worship Church\, 10628 US Highway 301\, Dade City\, FL\, 33525\, United States
GEO:28.3123947;-82.1868517
X-APPLE-STRUCTURED-LOCATION;VALUE=URI;X-ADDRESS=Heart of Worship Church 10628 US Highway 301 Dade City FL 33525 United States;X-APPLE-RADIUS=500;X-TITLE=10628 US Highway 301:geo:-82.1868517,28.3123947
END:VEVENT
BEGIN:VEVENT
DTSTART;TZID=America/New_York:20241013T110000
DTEND;TZID=America/New_York:20241013T123000
DTSTAMP:20260423T091717
CREATED:20160613T171114Z
LAST-MODIFIED:20250907T163436Z
UID:10000425-1728817200-1728822600@thehowchurch.org
SUMMARY:Service @ 11:00AM
DESCRIPTION:
URL:https://thehowchurch.org/event/service-1100am-21/2024-10-13/
LOCATION:Heart of Worship Church\, 10628 US Highway 301\, Dade City\, FL\, 33525\, United States
GEO:28.3123947;-82.1868517
X-APPLE-STRUCTURED-LOCATION;VALUE=URI;X-ADDRESS=Heart of Worship Church 10628 US Highway 301 Dade City FL 33525 United States;X-APPLE-RADIUS=500;X-TITLE=10628 US Highway 301:geo:-82.1868517,28.3123947
END:VEVENT
BEGIN:VEVENT
DTSTART;TZID=America/New_York:20241006T110000
DTEND;TZID=America/New_York:20241006T123000
DTSTAMP:20260423T091717
CREATED:20160613T171114Z
LAST-MODIFIED:20250907T163436Z
UID:10000424-1728212400-1728217800@thehowchurch.org
SUMMARY:Service @ 11:00AM
DESCRIPTION:
URL:https://thehowchurch.org/event/service-1100am-21/2024-10-06/
LOCATION:Heart of Worship Church\, 10628 US Highway 301\, Dade City\, FL\, 33525\, United States
GEO:28.3123947;-82.1868517
X-APPLE-STRUCTURED-LOCATION;VALUE=URI;X-ADDRESS=Heart of Worship Church 10628 US Highway 301 Dade City FL 33525 United States;X-APPLE-RADIUS=500;X-TITLE=10628 US Highway 301:geo:-82.1868517,28.3123947
END:VEVENT
BEGIN:VEVENT
DTSTART;TZID=America/New_York:20240929T110000
DTEND;TZID=America/New_York:20240929T123000
DTSTAMP:20260423T091717
CREATED:20160613T171114Z
LAST-MODIFIED:20250907T163436Z
UID:10000423-1727607600-1727613000@thehowchurch.org
SUMMARY:Service @ 11:00AM
DESCRIPTION:
URL:https://thehowchurch.org/event/service-1100am-21/2024-09-29/
LOCATION:Heart of Worship Church\, 10628 US Highway 301\, Dade City\, FL\, 33525\, United States
GEO:28.3123947;-82.1868517
X-APPLE-STRUCTURED-LOCATION;VALUE=URI;X-ADDRESS=Heart of Worship Church 10628 US Highway 301 Dade City FL 33525 United States;X-APPLE-RADIUS=500;X-TITLE=10628 US Highway 301:geo:-82.1868517,28.3123947
END:VEVENT
BEGIN:VEVENT
DTSTART;TZID=America/New_York:20240928T100000
DTEND;TZID=America/New_York:20240928T120000
DTSTAMP:20260423T091717
CREATED:20240928T151740Z
LAST-MODIFIED:20250722T230514Z
UID:10000467-1727517600-1727524800@thehowchurch.org
SUMMARY:Care & Share Ministry
DESCRIPTION:Please join us from 10am-1pm at Hibiscus Park
URL:https://thehowchurch.org/event/care-share-ministry/2024-09-28/
LOCATION:Heart of Worship Church\, 10628 US Highway 301\, Dade City\, FL\, 33525\, United States
GEO:28.3123947;-82.1868517
X-APPLE-STRUCTURED-LOCATION;VALUE=URI;X-ADDRESS=Heart of Worship Church 10628 US Highway 301 Dade City FL 33525 United States;X-APPLE-RADIUS=500;X-TITLE=10628 US Highway 301:geo:-82.1868517,28.3123947
END:VEVENT
BEGIN:VEVENT
DTSTART;TZID=America/New_York:20240922T110000
DTEND;TZID=America/New_York:20240922T123000
DTSTAMP:20260423T091717
CREATED:20160613T171114Z
LAST-MODIFIED:20250907T163436Z
UID:10000422-1727002800-1727008200@thehowchurch.org
SUMMARY:Service @ 11:00AM
DESCRIPTION:
URL:https://thehowchurch.org/event/service-1100am-21/2024-09-22/
LOCATION:Heart of Worship Church\, 10628 US Highway 301\, Dade City\, FL\, 33525\, United States
GEO:28.3123947;-82.1868517
X-APPLE-STRUCTURED-LOCATION;VALUE=URI;X-ADDRESS=Heart of Worship Church 10628 US Highway 301 Dade City FL 33525 United States;X-APPLE-RADIUS=500;X-TITLE=10628 US Highway 301:geo:-82.1868517,28.3123947
END:VEVENT
BEGIN:VEVENT
DTSTART;TZID=America/New_York:20240915T110000
DTEND;TZID=America/New_York:20240915T123000
DTSTAMP:20260423T091717
CREATED:20160613T171114Z
LAST-MODIFIED:20250907T163436Z
UID:10000421-1726398000-1726403400@thehowchurch.org
SUMMARY:Service @ 11:00AM
DESCRIPTION:
URL:https://thehowchurch.org/event/service-1100am-21/2024-09-15/
LOCATION:Heart of Worship Church\, 10628 US Highway 301\, Dade City\, FL\, 33525\, United States
GEO:28.3123947;-82.1868517
X-APPLE-STRUCTURED-LOCATION;VALUE=URI;X-ADDRESS=Heart of Worship Church 10628 US Highway 301 Dade City FL 33525 United States;X-APPLE-RADIUS=500;X-TITLE=10628 US Highway 301:geo:-82.1868517,28.3123947
END:VEVENT
BEGIN:VEVENT
DTSTART;TZID=America/New_York:20240908T110000
DTEND;TZID=America/New_York:20240908T123000
DTSTAMP:20260423T091717
CREATED:20160613T171114Z
LAST-MODIFIED:20250907T163436Z
UID:10000420-1725793200-1725798600@thehowchurch.org
SUMMARY:Service @ 11:00AM
DESCRIPTION:
URL:https://thehowchurch.org/event/service-1100am-21/2024-09-08/
LOCATION:Heart of Worship Church\, 10628 US Highway 301\, Dade City\, FL\, 33525\, United States
GEO:28.3123947;-82.1868517
X-APPLE-STRUCTURED-LOCATION;VALUE=URI;X-ADDRESS=Heart of Worship Church 10628 US Highway 301 Dade City FL 33525 United States;X-APPLE-RADIUS=500;X-TITLE=10628 US Highway 301:geo:-82.1868517,28.3123947
END:VEVENT
BEGIN:VEVENT
DTSTART;TZID=America/New_York:20240901T110000
DTEND;TZID=America/New_York:20240901T123000
DTSTAMP:20260423T091717
CREATED:20160613T171114Z
LAST-MODIFIED:20250907T163436Z
UID:10000419-1725188400-1725193800@thehowchurch.org
SUMMARY:Service @ 11:00AM
DESCRIPTION:
URL:https://thehowchurch.org/event/service-1100am-21/2024-09-01/
LOCATION:Heart of Worship Church\, 10628 US Highway 301\, Dade City\, FL\, 33525\, United States
GEO:28.3123947;-82.1868517
X-APPLE-STRUCTURED-LOCATION;VALUE=URI;X-ADDRESS=Heart of Worship Church 10628 US Highway 301 Dade City FL 33525 United States;X-APPLE-RADIUS=500;X-TITLE=10628 US Highway 301:geo:-82.1868517,28.3123947
END:VEVENT
BEGIN:VEVENT
DTSTART;TZID=America/New_York:20240825T110000
DTEND;TZID=America/New_York:20240825T123000
DTSTAMP:20260423T091717
CREATED:20160613T171114Z
LAST-MODIFIED:20250907T163436Z
UID:10000418-1724583600-1724589000@thehowchurch.org
SUMMARY:Service @ 11:00AM
DESCRIPTION:
URL:https://thehowchurch.org/event/service-1100am-21/2024-08-25/
LOCATION:Heart of Worship Church\, 10628 US Highway 301\, Dade City\, FL\, 33525\, United States
GEO:28.3123947;-82.1868517
X-APPLE-STRUCTURED-LOCATION;VALUE=URI;X-ADDRESS=Heart of Worship Church 10628 US Highway 301 Dade City FL 33525 United States;X-APPLE-RADIUS=500;X-TITLE=10628 US Highway 301:geo:-82.1868517,28.3123947
END:VEVENT
BEGIN:VEVENT
DTSTART;TZID=America/New_York:20240818T110000
DTEND;TZID=America/New_York:20240818T123000
DTSTAMP:20260423T091717
CREATED:20160613T171114Z
LAST-MODIFIED:20250907T163436Z
UID:10000417-1723978800-1723984200@thehowchurch.org
SUMMARY:Service @ 11:00AM
DESCRIPTION:
URL:https://thehowchurch.org/event/service-1100am-21/2024-08-18/
LOCATION:Heart of Worship Church\, 10628 US Highway 301\, Dade City\, FL\, 33525\, United States
GEO:28.3123947;-82.1868517
X-APPLE-STRUCTURED-LOCATION;VALUE=URI;X-ADDRESS=Heart of Worship Church 10628 US Highway 301 Dade City FL 33525 United States;X-APPLE-RADIUS=500;X-TITLE=10628 US Highway 301:geo:-82.1868517,28.3123947
END:VEVENT
BEGIN:VEVENT
DTSTART;TZID=America/New_York:20240811T110000
DTEND;TZID=America/New_York:20240811T123000
DTSTAMP:20260423T091717
CREATED:20160613T171114Z
LAST-MODIFIED:20250907T163436Z
UID:10000416-1723374000-1723379400@thehowchurch.org
SUMMARY:Service @ 11:00AM
DESCRIPTION:
URL:https://thehowchurch.org/event/service-1100am-21/2024-08-11/
LOCATION:Heart of Worship Church\, 10628 US Highway 301\, Dade City\, FL\, 33525\, United States
GEO:28.3123947;-82.1868517
X-APPLE-STRUCTURED-LOCATION;VALUE=URI;X-ADDRESS=Heart of Worship Church 10628 US Highway 301 Dade City FL 33525 United States;X-APPLE-RADIUS=500;X-TITLE=10628 US Highway 301:geo:-82.1868517,28.3123947
END:VEVENT
BEGIN:VEVENT
DTSTART;TZID=America/New_York:20240804T110000
DTEND;TZID=America/New_York:20240804T123000
DTSTAMP:20260423T091717
CREATED:20160613T171114Z
LAST-MODIFIED:20250907T163436Z
UID:10000415-1722769200-1722774600@thehowchurch.org
SUMMARY:Service @ 11:00AM
DESCRIPTION:
URL:https://thehowchurch.org/event/service-1100am-21/2024-08-04/
LOCATION:Heart of Worship Church\, 10628 US Highway 301\, Dade City\, FL\, 33525\, United States
GEO:28.3123947;-82.1868517
X-APPLE-STRUCTURED-LOCATION;VALUE=URI;X-ADDRESS=Heart of Worship Church 10628 US Highway 301 Dade City FL 33525 United States;X-APPLE-RADIUS=500;X-TITLE=10628 US Highway 301:geo:-82.1868517,28.3123947
END:VEVENT
BEGIN:VEVENT
DTSTART;TZID=America/New_York:20220927T080000
DTEND;TZID=America/New_York:20220928T230000
DTSTAMP:20260423T091717
CREATED:20220927T130645Z
LAST-MODIFIED:20220927T130645Z
UID:10000360-1664265600-1664406000@thehowchurch.org
SUMMARY:Wednesday Night Services Cancelled
DESCRIPTION:Wednesday night adult bible study and Youth Zoom call will be cancelled due to Hurricane Ian. Stay safe and we will remain prayerful for the safety of our church family and community.
URL:https://thehowchurch.org/event/wednesday-night-services-cancelled/
LOCATION:Heart of Worship Church\, 10628 US Highway 301\, Dade City\, FL\, 33525\, United States
GEO:28.3123947;-82.1868517
X-APPLE-STRUCTURED-LOCATION;VALUE=URI;X-ADDRESS=Heart of Worship Church 10628 US Highway 301 Dade City FL 33525 United States;X-APPLE-RADIUS=500;X-TITLE=10628 US Highway 301:geo:-82.1868517,28.3123947
END:VEVENT
BEGIN:VEVENT
DTSTART;TZID=America/New_York:20210929T184500
DTEND;TZID=America/New_York:20210929T200000
DTSTAMP:20260423T091717
CREATED:20160613T170040Z
LAST-MODIFIED:20210911T011941Z
UID:10000357-1632941100-1632945600@thehowchurch.org
SUMMARY:Wednesday Night Services
DESCRIPTION:Join us Wednesday night for the following services: \nAdult Bible Study\nLife Line Youth Group\nKids at Heart
URL:https://thehowchurch.org/event/pulse-youth-ministry-18-2021-09-29/
LOCATION:Heart of Worship Church\, 10628 US Highway 301\, Dade City\, FL\, 33525\, United States
GEO:28.3123947;-82.1868517
X-APPLE-STRUCTURED-LOCATION;VALUE=URI;X-ADDRESS=Heart of Worship Church 10628 US Highway 301 Dade City FL 33525 United States;X-APPLE-RADIUS=500;X-TITLE=10628 US Highway 301:geo:-82.1868517,28.3123947
END:VEVENT
BEGIN:VEVENT
DTSTART;TZID=America/New_York:20210919T123000
DTEND;TZID=America/New_York:20210919T140000
DTSTAMP:20260423T091717
CREATED:20210911T011049Z
LAST-MODIFIED:20210911T011049Z
UID:10000359-1632054600-1632060000@thehowchurch.org
SUMMARY:Water Baptism
DESCRIPTION:Pastor Tony Disano will be blessed to perform water baptisms for all Heart of Worship members which feel lead to take this step of faith and dig deeper in their relationship with the Lord. If you haven’t already signed up\, please be sure to reach out to Pastor Tony\, Pastor Michelle\, or Ms Rachel. All welcome to join us after the baptisms as we fellowship with food
URL:https://thehowchurch.org/event/water-baptism/
LOCATION:Heart of Worship Church\, 10628 US Highway 301\, Dade City\, FL\, 33525\, United States
GEO:28.3123947;-82.1868517
X-APPLE-STRUCTURED-LOCATION;VALUE=URI;X-ADDRESS=Heart of Worship Church 10628 US Highway 301 Dade City FL 33525 United States;X-APPLE-RADIUS=500;X-TITLE=10628 US Highway 301:geo:-82.1868517,28.3123947
END:VEVENT
BEGIN:VEVENT
DTSTART;TZID=America/New_York:20210918T180000
DTEND;TZID=America/New_York:20210918T210000
DTSTAMP:20260423T091718
CREATED:20210911T010343Z
LAST-MODIFIED:20210911T010343Z
UID:10000358-1631988000-1631998800@thehowchurch.org
SUMMARY:LifeLine Youth Event
DESCRIPTION:
URL:https://thehowchurch.org/event/lifeline-youth-event/
LOCATION:Heart of Worship Church\, 10628 US Highway 301\, Dade City\, FL\, 33525\, United States
GEO:28.3123947;-82.1868517
X-APPLE-STRUCTURED-LOCATION;VALUE=URI;X-ADDRESS=Heart of Worship Church 10628 US Highway 301 Dade City FL 33525 United States;X-APPLE-RADIUS=500;X-TITLE=10628 US Highway 301:geo:-82.1868517,28.3123947
END:VEVENT
BEGIN:VEVENT
DTSTART;TZID=America/New_York:20210818T183000
DTEND;TZID=America/New_York:20210818T193000
DTSTAMP:20260423T091718
CREATED:20160613T170040Z
LAST-MODIFIED:20210817T210846Z
UID:10000356-1629311400-1629315000@thehowchurch.org
SUMMARY:Wednesday Night Services
DESCRIPTION:  \nAdult Bible Study-CANCELLED\nLife Line Youth Group- Meeting Zia Zoom Link
URL:https://thehowchurch.org/event/pulse-youth-ministry-18-2021-08-18/
LOCATION:Heart of Worship Church\, 10628 US Highway 301\, Dade City\, FL\, 33525\, United States
GEO:28.3123947;-82.1868517
X-APPLE-STRUCTURED-LOCATION;VALUE=URI;X-ADDRESS=Heart of Worship Church 10628 US Highway 301 Dade City FL 33525 United States;X-APPLE-RADIUS=500;X-TITLE=10628 US Highway 301:geo:-82.1868517,28.3123947
END:VEVENT
BEGIN:VEVENT
DTSTART;TZID=America/New_York:20200329T110000
DTEND;TZID=America/New_York:20200329T123000
DTSTAMP:20260423T091718
CREATED:20160613T171035Z
LAST-MODIFIED:20200209T165242Z
UID:10000340-1585479600-1585485000@thehowchurch.org
SUMMARY:Service @ 11:00AM
DESCRIPTION:
URL:https://thehowchurch.org/event/service-1100am-19/
LOCATION:Heart of Worship Church\, 10628 US Highway 301\, Dade City\, FL\, 33525\, United States
GEO:28.3123947;-82.1868517
X-APPLE-STRUCTURED-LOCATION;VALUE=URI;X-ADDRESS=Heart of Worship Church 10628 US Highway 301 Dade City FL 33525 United States;X-APPLE-RADIUS=500;X-TITLE=10628 US Highway 301:geo:-82.1868517,28.3123947
END:VEVENT
BEGIN:VEVENT
DTSTART;TZID=America/New_York:20200322T110000
DTEND;TZID=America/New_York:20200322T110000
DTSTAMP:20260423T091718
CREATED:20160613T171016Z
LAST-MODIFIED:20200209T165050Z
UID:10000339-1584874800-1584874800@thehowchurch.org
SUMMARY:Service @ 11:00AM
DESCRIPTION:
URL:https://thehowchurch.org/event/service-1100am-18/
LOCATION:Heart of Worship Church\, 10628 US Highway 301\, Dade City\, FL\, 33525\, United States
GEO:28.3123947;-82.1868517
X-APPLE-STRUCTURED-LOCATION;VALUE=URI;X-ADDRESS=Heart of Worship Church 10628 US Highway 301 Dade City FL 33525 United States;X-APPLE-RADIUS=500;X-TITLE=10628 US Highway 301:geo:-82.1868517,28.3123947
END:VEVENT
END:VCALENDAR