BEGIN:VCALENDAR
VERSION:2.0
PRODID:-//Heart of Worship Church - ECPv6.15.20//NONSGML v1.0//EN
CALSCALE:GREGORIAN
METHOD:PUBLISH
X-ORIGINAL-URL:https://thehowchurch.org
X-WR-CALDESC:Events for Heart of Worship Church
REFRESH-INTERVAL;VALUE=DURATION:PT1H
X-Robots-Tag:noindex
X-PUBLISHED-TTL:PT1H
BEGIN:VTIMEZONE
TZID:America/New_York
BEGIN:DAYLIGHT
TZOFFSETFROM:-0500
TZOFFSETTO:-0400
TZNAME:EDT
DTSTART:20260308T070000
END:DAYLIGHT
BEGIN:STANDARD
TZOFFSETFROM:-0400
TZOFFSETTO:-0500
TZNAME:EST
DTSTART:20261101T060000
END:STANDARD
BEGIN:DAYLIGHT
TZOFFSETFROM:-0500
TZOFFSETTO:-0400
TZNAME:EDT
DTSTART:20270314T070000
END:DAYLIGHT
BEGIN:STANDARD
TZOFFSETFROM:-0400
TZOFFSETTO:-0500
TZNAME:EST
DTSTART:20271107T060000
END:STANDARD
BEGIN:DAYLIGHT
TZOFFSETFROM:-0500
TZOFFSETTO:-0400
TZNAME:EDT
DTSTART:20280312T070000
END:DAYLIGHT
BEGIN:STANDARD
TZOFFSETFROM:-0400
TZOFFSETTO:-0500
TZNAME:EST
DTSTART:20281105T060000
END:STANDARD
END:VTIMEZONE
BEGIN:VEVENT
DTSTART;TZID=America/New_York:20270602T184500
DTEND;TZID=America/New_York:20270602T200000
DTSTAMP:20260423T053606
CREATED:20250907T163212Z
LAST-MODIFIED:20260412T152247Z
UID:10000732-1811961900-1811966400@thehowchurch.org
SUMMARY:Wednesday Night Fellowship
DESCRIPTION:Adult Bible study in the Heart of Worship sanctuary beginning at 7:00pm.
URL:https://thehowchurch.org/event/wednesday-night-fellowship/2027-06-02/
LOCATION:Heart of Worship Church\, 10628 US Highway 301\, Dade City\, FL\, 33525\, United States
GEO:28.3123947;-82.1868517
X-APPLE-STRUCTURED-LOCATION;VALUE=URI;X-ADDRESS=Heart of Worship Church 10628 US Highway 301 Dade City FL 33525 United States;X-APPLE-RADIUS=500;X-TITLE=10628 US Highway 301:geo:-82.1868517,28.3123947
END:VEVENT
BEGIN:VEVENT
DTSTART;TZID=America/New_York:20270606T110000
DTEND;TZID=America/New_York:20270606T123000
DTSTAMP:20260423T053606
CREATED:20160613T171114Z
LAST-MODIFIED:20250907T163436Z
UID:10001051-1812279600-1812285000@thehowchurch.org
SUMMARY:Service @ 11:00AM
DESCRIPTION:
URL:https://thehowchurch.org/event/service-1100am-21/2027-06-06/
LOCATION:Heart of Worship Church\, 10628 US Highway 301\, Dade City\, FL\, 33525\, United States
GEO:28.3123947;-82.1868517
X-APPLE-STRUCTURED-LOCATION;VALUE=URI;X-ADDRESS=Heart of Worship Church 10628 US Highway 301 Dade City FL 33525 United States;X-APPLE-RADIUS=500;X-TITLE=10628 US Highway 301:geo:-82.1868517,28.3123947
END:VEVENT
BEGIN:VEVENT
DTSTART;TZID=America/New_York:20270609T184500
DTEND;TZID=America/New_York:20270609T200000
DTSTAMP:20260423T053606
CREATED:20250907T163212Z
LAST-MODIFIED:20260412T152247Z
UID:10000733-1812566700-1812571200@thehowchurch.org
SUMMARY:Wednesday Night Fellowship
DESCRIPTION:Adult Bible study in the Heart of Worship sanctuary beginning at 7:00pm.
URL:https://thehowchurch.org/event/wednesday-night-fellowship/2027-06-09/
LOCATION:Heart of Worship Church\, 10628 US Highway 301\, Dade City\, FL\, 33525\, United States
GEO:28.3123947;-82.1868517
X-APPLE-STRUCTURED-LOCATION;VALUE=URI;X-ADDRESS=Heart of Worship Church 10628 US Highway 301 Dade City FL 33525 United States;X-APPLE-RADIUS=500;X-TITLE=10628 US Highway 301:geo:-82.1868517,28.3123947
END:VEVENT
BEGIN:VEVENT
DTSTART;TZID=America/New_York:20270613T110000
DTEND;TZID=America/New_York:20270613T123000
DTSTAMP:20260423T053606
CREATED:20160613T171114Z
LAST-MODIFIED:20250907T163436Z
UID:10001052-1812884400-1812889800@thehowchurch.org
SUMMARY:Service @ 11:00AM
DESCRIPTION:
URL:https://thehowchurch.org/event/service-1100am-21/2027-06-13/
LOCATION:Heart of Worship Church\, 10628 US Highway 301\, Dade City\, FL\, 33525\, United States
GEO:28.3123947;-82.1868517
X-APPLE-STRUCTURED-LOCATION;VALUE=URI;X-ADDRESS=Heart of Worship Church 10628 US Highway 301 Dade City FL 33525 United States;X-APPLE-RADIUS=500;X-TITLE=10628 US Highway 301:geo:-82.1868517,28.3123947
END:VEVENT
BEGIN:VEVENT
DTSTART;TZID=America/New_York:20270616T184500
DTEND;TZID=America/New_York:20270616T200000
DTSTAMP:20260423T053606
CREATED:20250907T163212Z
LAST-MODIFIED:20260412T152247Z
UID:10000734-1813171500-1813176000@thehowchurch.org
SUMMARY:Wednesday Night Fellowship
DESCRIPTION:Adult Bible study in the Heart of Worship sanctuary beginning at 7:00pm.
URL:https://thehowchurch.org/event/wednesday-night-fellowship/2027-06-16/
LOCATION:Heart of Worship Church\, 10628 US Highway 301\, Dade City\, FL\, 33525\, United States
GEO:28.3123947;-82.1868517
X-APPLE-STRUCTURED-LOCATION;VALUE=URI;X-ADDRESS=Heart of Worship Church 10628 US Highway 301 Dade City FL 33525 United States;X-APPLE-RADIUS=500;X-TITLE=10628 US Highway 301:geo:-82.1868517,28.3123947
END:VEVENT
BEGIN:VEVENT
DTSTART;TZID=America/New_York:20270620T110000
DTEND;TZID=America/New_York:20270620T123000
DTSTAMP:20260423T053606
CREATED:20160613T171114Z
LAST-MODIFIED:20250907T163436Z
UID:10001053-1813489200-1813494600@thehowchurch.org
SUMMARY:Service @ 11:00AM
DESCRIPTION:
URL:https://thehowchurch.org/event/service-1100am-21/2027-06-20/
LOCATION:Heart of Worship Church\, 10628 US Highway 301\, Dade City\, FL\, 33525\, United States
GEO:28.3123947;-82.1868517
X-APPLE-STRUCTURED-LOCATION;VALUE=URI;X-ADDRESS=Heart of Worship Church 10628 US Highway 301 Dade City FL 33525 United States;X-APPLE-RADIUS=500;X-TITLE=10628 US Highway 301:geo:-82.1868517,28.3123947
END:VEVENT
BEGIN:VEVENT
DTSTART;TZID=America/New_York:20270623T184500
DTEND;TZID=America/New_York:20270623T200000
DTSTAMP:20260423T053606
CREATED:20250907T163212Z
LAST-MODIFIED:20260412T152247Z
UID:10000735-1813776300-1813780800@thehowchurch.org
SUMMARY:Wednesday Night Fellowship
DESCRIPTION:Adult Bible study in the Heart of Worship sanctuary beginning at 7:00pm.
URL:https://thehowchurch.org/event/wednesday-night-fellowship/2027-06-23/
LOCATION:Heart of Worship Church\, 10628 US Highway 301\, Dade City\, FL\, 33525\, United States
GEO:28.3123947;-82.1868517
X-APPLE-STRUCTURED-LOCATION;VALUE=URI;X-ADDRESS=Heart of Worship Church 10628 US Highway 301 Dade City FL 33525 United States;X-APPLE-RADIUS=500;X-TITLE=10628 US Highway 301:geo:-82.1868517,28.3123947
END:VEVENT
BEGIN:VEVENT
DTSTART;TZID=America/New_York:20270626T100000
DTEND;TZID=America/New_York:20270626T120000
DTSTAMP:20260423T053606
CREATED:20240928T151740Z
LAST-MODIFIED:20250722T230514Z
UID:10000500-1814004000-1814011200@thehowchurch.org
SUMMARY:Care & Share Ministry
DESCRIPTION:Please join us from 10am-1pm at Hibiscus Park
URL:https://thehowchurch.org/event/care-share-ministry/2027-06-26/
LOCATION:Heart of Worship Church\, 10628 US Highway 301\, Dade City\, FL\, 33525\, United States
GEO:28.3123947;-82.1868517
X-APPLE-STRUCTURED-LOCATION;VALUE=URI;X-ADDRESS=Heart of Worship Church 10628 US Highway 301 Dade City FL 33525 United States;X-APPLE-RADIUS=500;X-TITLE=10628 US Highway 301:geo:-82.1868517,28.3123947
END:VEVENT
BEGIN:VEVENT
DTSTART;TZID=America/New_York:20270627T110000
DTEND;TZID=America/New_York:20270627T123000
DTSTAMP:20260423T053606
CREATED:20160613T171114Z
LAST-MODIFIED:20250907T163436Z
UID:10001054-1814094000-1814099400@thehowchurch.org
SUMMARY:Service @ 11:00AM
DESCRIPTION:
URL:https://thehowchurch.org/event/service-1100am-21/2027-06-27/
LOCATION:Heart of Worship Church\, 10628 US Highway 301\, Dade City\, FL\, 33525\, United States
GEO:28.3123947;-82.1868517
X-APPLE-STRUCTURED-LOCATION;VALUE=URI;X-ADDRESS=Heart of Worship Church 10628 US Highway 301 Dade City FL 33525 United States;X-APPLE-RADIUS=500;X-TITLE=10628 US Highway 301:geo:-82.1868517,28.3123947
END:VEVENT
BEGIN:VEVENT
DTSTART;TZID=America/New_York:20270630T184500
DTEND;TZID=America/New_York:20270630T200000
DTSTAMP:20260423T053606
CREATED:20250907T163212Z
LAST-MODIFIED:20260412T152247Z
UID:10000736-1814381100-1814385600@thehowchurch.org
SUMMARY:Wednesday Night Fellowship
DESCRIPTION:Adult Bible study in the Heart of Worship sanctuary beginning at 7:00pm.
URL:https://thehowchurch.org/event/wednesday-night-fellowship/2027-06-30/
LOCATION:Heart of Worship Church\, 10628 US Highway 301\, Dade City\, FL\, 33525\, United States
GEO:28.3123947;-82.1868517
X-APPLE-STRUCTURED-LOCATION;VALUE=URI;X-ADDRESS=Heart of Worship Church 10628 US Highway 301 Dade City FL 33525 United States;X-APPLE-RADIUS=500;X-TITLE=10628 US Highway 301:geo:-82.1868517,28.3123947
END:VEVENT
BEGIN:VEVENT
DTSTART;TZID=America/New_York:20270704T110000
DTEND;TZID=America/New_York:20270704T123000
DTSTAMP:20260423T053606
CREATED:20160613T171114Z
LAST-MODIFIED:20250907T163436Z
UID:10001055-1814698800-1814704200@thehowchurch.org
SUMMARY:Service @ 11:00AM
DESCRIPTION:
URL:https://thehowchurch.org/event/service-1100am-21/2027-07-04/
LOCATION:Heart of Worship Church\, 10628 US Highway 301\, Dade City\, FL\, 33525\, United States
GEO:28.3123947;-82.1868517
X-APPLE-STRUCTURED-LOCATION;VALUE=URI;X-ADDRESS=Heart of Worship Church 10628 US Highway 301 Dade City FL 33525 United States;X-APPLE-RADIUS=500;X-TITLE=10628 US Highway 301:geo:-82.1868517,28.3123947
END:VEVENT
BEGIN:VEVENT
DTSTART;TZID=America/New_York:20270707T184500
DTEND;TZID=America/New_York:20270707T200000
DTSTAMP:20260423T053606
CREATED:20250907T163212Z
LAST-MODIFIED:20260412T152247Z
UID:10000737-1814985900-1814990400@thehowchurch.org
SUMMARY:Wednesday Night Fellowship
DESCRIPTION:Adult Bible study in the Heart of Worship sanctuary beginning at 7:00pm.
URL:https://thehowchurch.org/event/wednesday-night-fellowship/2027-07-07/
LOCATION:Heart of Worship Church\, 10628 US Highway 301\, Dade City\, FL\, 33525\, United States
GEO:28.3123947;-82.1868517
X-APPLE-STRUCTURED-LOCATION;VALUE=URI;X-ADDRESS=Heart of Worship Church 10628 US Highway 301 Dade City FL 33525 United States;X-APPLE-RADIUS=500;X-TITLE=10628 US Highway 301:geo:-82.1868517,28.3123947
END:VEVENT
BEGIN:VEVENT
DTSTART;TZID=America/New_York:20270711T110000
DTEND;TZID=America/New_York:20270711T123000
DTSTAMP:20260423T053606
CREATED:20160613T171114Z
LAST-MODIFIED:20250907T163436Z
UID:10001056-1815303600-1815309000@thehowchurch.org
SUMMARY:Service @ 11:00AM
DESCRIPTION:
URL:https://thehowchurch.org/event/service-1100am-21/2027-07-11/
LOCATION:Heart of Worship Church\, 10628 US Highway 301\, Dade City\, FL\, 33525\, United States
GEO:28.3123947;-82.1868517
X-APPLE-STRUCTURED-LOCATION;VALUE=URI;X-ADDRESS=Heart of Worship Church 10628 US Highway 301 Dade City FL 33525 United States;X-APPLE-RADIUS=500;X-TITLE=10628 US Highway 301:geo:-82.1868517,28.3123947
END:VEVENT
BEGIN:VEVENT
DTSTART;TZID=America/New_York:20270714T184500
DTEND;TZID=America/New_York:20270714T200000
DTSTAMP:20260423T053606
CREATED:20250907T163212Z
LAST-MODIFIED:20260412T152247Z
UID:10000738-1815590700-1815595200@thehowchurch.org
SUMMARY:Wednesday Night Fellowship
DESCRIPTION:Adult Bible study in the Heart of Worship sanctuary beginning at 7:00pm.
URL:https://thehowchurch.org/event/wednesday-night-fellowship/2027-07-14/
LOCATION:Heart of Worship Church\, 10628 US Highway 301\, Dade City\, FL\, 33525\, United States
GEO:28.3123947;-82.1868517
X-APPLE-STRUCTURED-LOCATION;VALUE=URI;X-ADDRESS=Heart of Worship Church 10628 US Highway 301 Dade City FL 33525 United States;X-APPLE-RADIUS=500;X-TITLE=10628 US Highway 301:geo:-82.1868517,28.3123947
END:VEVENT
BEGIN:VEVENT
DTSTART;TZID=America/New_York:20270718T110000
DTEND;TZID=America/New_York:20270718T123000
DTSTAMP:20260423T053606
CREATED:20160613T171114Z
LAST-MODIFIED:20250907T163436Z
UID:10001057-1815908400-1815913800@thehowchurch.org
SUMMARY:Service @ 11:00AM
DESCRIPTION:
URL:https://thehowchurch.org/event/service-1100am-21/2027-07-18/
LOCATION:Heart of Worship Church\, 10628 US Highway 301\, Dade City\, FL\, 33525\, United States
GEO:28.3123947;-82.1868517
X-APPLE-STRUCTURED-LOCATION;VALUE=URI;X-ADDRESS=Heart of Worship Church 10628 US Highway 301 Dade City FL 33525 United States;X-APPLE-RADIUS=500;X-TITLE=10628 US Highway 301:geo:-82.1868517,28.3123947
END:VEVENT
BEGIN:VEVENT
DTSTART;TZID=America/New_York:20270721T184500
DTEND;TZID=America/New_York:20270721T200000
DTSTAMP:20260423T053606
CREATED:20250907T163212Z
LAST-MODIFIED:20260412T152247Z
UID:10000739-1816195500-1816200000@thehowchurch.org
SUMMARY:Wednesday Night Fellowship
DESCRIPTION:Adult Bible study in the Heart of Worship sanctuary beginning at 7:00pm.
URL:https://thehowchurch.org/event/wednesday-night-fellowship/2027-07-21/
LOCATION:Heart of Worship Church\, 10628 US Highway 301\, Dade City\, FL\, 33525\, United States
GEO:28.3123947;-82.1868517
X-APPLE-STRUCTURED-LOCATION;VALUE=URI;X-ADDRESS=Heart of Worship Church 10628 US Highway 301 Dade City FL 33525 United States;X-APPLE-RADIUS=500;X-TITLE=10628 US Highway 301:geo:-82.1868517,28.3123947
END:VEVENT
BEGIN:VEVENT
DTSTART;TZID=America/New_York:20270725T110000
DTEND;TZID=America/New_York:20270725T123000
DTSTAMP:20260423T053606
CREATED:20160613T171114Z
LAST-MODIFIED:20250907T163436Z
UID:10001058-1816513200-1816518600@thehowchurch.org
SUMMARY:Service @ 11:00AM
DESCRIPTION:
URL:https://thehowchurch.org/event/service-1100am-21/2027-07-25/
LOCATION:Heart of Worship Church\, 10628 US Highway 301\, Dade City\, FL\, 33525\, United States
GEO:28.3123947;-82.1868517
X-APPLE-STRUCTURED-LOCATION;VALUE=URI;X-ADDRESS=Heart of Worship Church 10628 US Highway 301 Dade City FL 33525 United States;X-APPLE-RADIUS=500;X-TITLE=10628 US Highway 301:geo:-82.1868517,28.3123947
END:VEVENT
BEGIN:VEVENT
DTSTART;TZID=America/New_York:20270728T184500
DTEND;TZID=America/New_York:20270728T200000
DTSTAMP:20260423T053606
CREATED:20250907T163212Z
LAST-MODIFIED:20260412T152247Z
UID:10000740-1816800300-1816804800@thehowchurch.org
SUMMARY:Wednesday Night Fellowship
DESCRIPTION:Adult Bible study in the Heart of Worship sanctuary beginning at 7:00pm.
URL:https://thehowchurch.org/event/wednesday-night-fellowship/2027-07-28/
LOCATION:Heart of Worship Church\, 10628 US Highway 301\, Dade City\, FL\, 33525\, United States
GEO:28.3123947;-82.1868517
X-APPLE-STRUCTURED-LOCATION;VALUE=URI;X-ADDRESS=Heart of Worship Church 10628 US Highway 301 Dade City FL 33525 United States;X-APPLE-RADIUS=500;X-TITLE=10628 US Highway 301:geo:-82.1868517,28.3123947
END:VEVENT
BEGIN:VEVENT
DTSTART;TZID=America/New_York:20270731T100000
DTEND;TZID=America/New_York:20270731T120000
DTSTAMP:20260423T053606
CREATED:20240928T151740Z
LAST-MODIFIED:20250722T230514Z
UID:10000501-1817028000-1817035200@thehowchurch.org
SUMMARY:Care & Share Ministry
DESCRIPTION:Please join us from 10am-1pm at Hibiscus Park
URL:https://thehowchurch.org/event/care-share-ministry/2027-07-31/
LOCATION:Heart of Worship Church\, 10628 US Highway 301\, Dade City\, FL\, 33525\, United States
GEO:28.3123947;-82.1868517
X-APPLE-STRUCTURED-LOCATION;VALUE=URI;X-ADDRESS=Heart of Worship Church 10628 US Highway 301 Dade City FL 33525 United States;X-APPLE-RADIUS=500;X-TITLE=10628 US Highway 301:geo:-82.1868517,28.3123947
END:VEVENT
BEGIN:VEVENT
DTSTART;TZID=America/New_York:20270801T110000
DTEND;TZID=America/New_York:20270801T123000
DTSTAMP:20260423T053606
CREATED:20160613T171114Z
LAST-MODIFIED:20250907T163436Z
UID:10001059-1817118000-1817123400@thehowchurch.org
SUMMARY:Service @ 11:00AM
DESCRIPTION:
URL:https://thehowchurch.org/event/service-1100am-21/2027-08-01/
LOCATION:Heart of Worship Church\, 10628 US Highway 301\, Dade City\, FL\, 33525\, United States
GEO:28.3123947;-82.1868517
X-APPLE-STRUCTURED-LOCATION;VALUE=URI;X-ADDRESS=Heart of Worship Church 10628 US Highway 301 Dade City FL 33525 United States;X-APPLE-RADIUS=500;X-TITLE=10628 US Highway 301:geo:-82.1868517,28.3123947
END:VEVENT
BEGIN:VEVENT
DTSTART;TZID=America/New_York:20270804T184500
DTEND;TZID=America/New_York:20270804T200000
DTSTAMP:20260423T053606
CREATED:20250907T163212Z
LAST-MODIFIED:20260412T152247Z
UID:10000741-1817405100-1817409600@thehowchurch.org
SUMMARY:Wednesday Night Fellowship
DESCRIPTION:Adult Bible study in the Heart of Worship sanctuary beginning at 7:00pm.
URL:https://thehowchurch.org/event/wednesday-night-fellowship/2027-08-04/
LOCATION:Heart of Worship Church\, 10628 US Highway 301\, Dade City\, FL\, 33525\, United States
GEO:28.3123947;-82.1868517
X-APPLE-STRUCTURED-LOCATION;VALUE=URI;X-ADDRESS=Heart of Worship Church 10628 US Highway 301 Dade City FL 33525 United States;X-APPLE-RADIUS=500;X-TITLE=10628 US Highway 301:geo:-82.1868517,28.3123947
END:VEVENT
BEGIN:VEVENT
DTSTART;TZID=America/New_York:20270808T110000
DTEND;TZID=America/New_York:20270808T123000
DTSTAMP:20260423T053606
CREATED:20160613T171114Z
LAST-MODIFIED:20250907T163436Z
UID:10001060-1817722800-1817728200@thehowchurch.org
SUMMARY:Service @ 11:00AM
DESCRIPTION:
URL:https://thehowchurch.org/event/service-1100am-21/2027-08-08/
LOCATION:Heart of Worship Church\, 10628 US Highway 301\, Dade City\, FL\, 33525\, United States
GEO:28.3123947;-82.1868517
X-APPLE-STRUCTURED-LOCATION;VALUE=URI;X-ADDRESS=Heart of Worship Church 10628 US Highway 301 Dade City FL 33525 United States;X-APPLE-RADIUS=500;X-TITLE=10628 US Highway 301:geo:-82.1868517,28.3123947
END:VEVENT
BEGIN:VEVENT
DTSTART;TZID=America/New_York:20270811T184500
DTEND;TZID=America/New_York:20270811T200000
DTSTAMP:20260423T053606
CREATED:20250907T163212Z
LAST-MODIFIED:20260412T152247Z
UID:10000742-1818009900-1818014400@thehowchurch.org
SUMMARY:Wednesday Night Fellowship
DESCRIPTION:Adult Bible study in the Heart of Worship sanctuary beginning at 7:00pm.
URL:https://thehowchurch.org/event/wednesday-night-fellowship/2027-08-11/
LOCATION:Heart of Worship Church\, 10628 US Highway 301\, Dade City\, FL\, 33525\, United States
GEO:28.3123947;-82.1868517
X-APPLE-STRUCTURED-LOCATION;VALUE=URI;X-ADDRESS=Heart of Worship Church 10628 US Highway 301 Dade City FL 33525 United States;X-APPLE-RADIUS=500;X-TITLE=10628 US Highway 301:geo:-82.1868517,28.3123947
END:VEVENT
BEGIN:VEVENT
DTSTART;TZID=America/New_York:20270815T110000
DTEND;TZID=America/New_York:20270815T123000
DTSTAMP:20260423T053606
CREATED:20160613T171114Z
LAST-MODIFIED:20250907T163436Z
UID:10001061-1818327600-1818333000@thehowchurch.org
SUMMARY:Service @ 11:00AM
DESCRIPTION:
URL:https://thehowchurch.org/event/service-1100am-21/2027-08-15/
LOCATION:Heart of Worship Church\, 10628 US Highway 301\, Dade City\, FL\, 33525\, United States
GEO:28.3123947;-82.1868517
X-APPLE-STRUCTURED-LOCATION;VALUE=URI;X-ADDRESS=Heart of Worship Church 10628 US Highway 301 Dade City FL 33525 United States;X-APPLE-RADIUS=500;X-TITLE=10628 US Highway 301:geo:-82.1868517,28.3123947
END:VEVENT
BEGIN:VEVENT
DTSTART;TZID=America/New_York:20270818T184500
DTEND;TZID=America/New_York:20270818T200000
DTSTAMP:20260423T053606
CREATED:20250907T163212Z
LAST-MODIFIED:20260412T152247Z
UID:10000743-1818614700-1818619200@thehowchurch.org
SUMMARY:Wednesday Night Fellowship
DESCRIPTION:Adult Bible study in the Heart of Worship sanctuary beginning at 7:00pm.
URL:https://thehowchurch.org/event/wednesday-night-fellowship/2027-08-18/
LOCATION:Heart of Worship Church\, 10628 US Highway 301\, Dade City\, FL\, 33525\, United States
GEO:28.3123947;-82.1868517
X-APPLE-STRUCTURED-LOCATION;VALUE=URI;X-ADDRESS=Heart of Worship Church 10628 US Highway 301 Dade City FL 33525 United States;X-APPLE-RADIUS=500;X-TITLE=10628 US Highway 301:geo:-82.1868517,28.3123947
END:VEVENT
BEGIN:VEVENT
DTSTART;TZID=America/New_York:20270822T110000
DTEND;TZID=America/New_York:20270822T123000
DTSTAMP:20260423T053606
CREATED:20160613T171114Z
LAST-MODIFIED:20250907T163436Z
UID:10001062-1818932400-1818937800@thehowchurch.org
SUMMARY:Service @ 11:00AM
DESCRIPTION:
URL:https://thehowchurch.org/event/service-1100am-21/2027-08-22/
LOCATION:Heart of Worship Church\, 10628 US Highway 301\, Dade City\, FL\, 33525\, United States
GEO:28.3123947;-82.1868517
X-APPLE-STRUCTURED-LOCATION;VALUE=URI;X-ADDRESS=Heart of Worship Church 10628 US Highway 301 Dade City FL 33525 United States;X-APPLE-RADIUS=500;X-TITLE=10628 US Highway 301:geo:-82.1868517,28.3123947
END:VEVENT
BEGIN:VEVENT
DTSTART;TZID=America/New_York:20270825T184500
DTEND;TZID=America/New_York:20270825T200000
DTSTAMP:20260423T053606
CREATED:20250907T163212Z
LAST-MODIFIED:20260412T152247Z
UID:10000744-1819219500-1819224000@thehowchurch.org
SUMMARY:Wednesday Night Fellowship
DESCRIPTION:Adult Bible study in the Heart of Worship sanctuary beginning at 7:00pm.
URL:https://thehowchurch.org/event/wednesday-night-fellowship/2027-08-25/
LOCATION:Heart of Worship Church\, 10628 US Highway 301\, Dade City\, FL\, 33525\, United States
GEO:28.3123947;-82.1868517
X-APPLE-STRUCTURED-LOCATION;VALUE=URI;X-ADDRESS=Heart of Worship Church 10628 US Highway 301 Dade City FL 33525 United States;X-APPLE-RADIUS=500;X-TITLE=10628 US Highway 301:geo:-82.1868517,28.3123947
END:VEVENT
BEGIN:VEVENT
DTSTART;TZID=America/New_York:20270828T100000
DTEND;TZID=America/New_York:20270828T120000
DTSTAMP:20260423T053606
CREATED:20240928T151740Z
LAST-MODIFIED:20250722T230514Z
UID:10000502-1819447200-1819454400@thehowchurch.org
SUMMARY:Care & Share Ministry
DESCRIPTION:Please join us from 10am-1pm at Hibiscus Park
URL:https://thehowchurch.org/event/care-share-ministry/2027-08-28/
LOCATION:Heart of Worship Church\, 10628 US Highway 301\, Dade City\, FL\, 33525\, United States
GEO:28.3123947;-82.1868517
X-APPLE-STRUCTURED-LOCATION;VALUE=URI;X-ADDRESS=Heart of Worship Church 10628 US Highway 301 Dade City FL 33525 United States;X-APPLE-RADIUS=500;X-TITLE=10628 US Highway 301:geo:-82.1868517,28.3123947
END:VEVENT
BEGIN:VEVENT
DTSTART;TZID=America/New_York:20270829T110000
DTEND;TZID=America/New_York:20270829T123000
DTSTAMP:20260423T053606
CREATED:20160613T171114Z
LAST-MODIFIED:20250907T163436Z
UID:10001063-1819537200-1819542600@thehowchurch.org
SUMMARY:Service @ 11:00AM
DESCRIPTION:
URL:https://thehowchurch.org/event/service-1100am-21/2027-08-29/
LOCATION:Heart of Worship Church\, 10628 US Highway 301\, Dade City\, FL\, 33525\, United States
GEO:28.3123947;-82.1868517
X-APPLE-STRUCTURED-LOCATION;VALUE=URI;X-ADDRESS=Heart of Worship Church 10628 US Highway 301 Dade City FL 33525 United States;X-APPLE-RADIUS=500;X-TITLE=10628 US Highway 301:geo:-82.1868517,28.3123947
END:VEVENT
BEGIN:VEVENT
DTSTART;TZID=America/New_York:20270901T184500
DTEND;TZID=America/New_York:20270901T200000
DTSTAMP:20260423T053606
CREATED:20250907T163212Z
LAST-MODIFIED:20260412T152247Z
UID:10000745-1819824300-1819828800@thehowchurch.org
SUMMARY:Wednesday Night Fellowship
DESCRIPTION:Adult Bible study in the Heart of Worship sanctuary beginning at 7:00pm.
URL:https://thehowchurch.org/event/wednesday-night-fellowship/2027-09-01/
LOCATION:Heart of Worship Church\, 10628 US Highway 301\, Dade City\, FL\, 33525\, United States
GEO:28.3123947;-82.1868517
X-APPLE-STRUCTURED-LOCATION;VALUE=URI;X-ADDRESS=Heart of Worship Church 10628 US Highway 301 Dade City FL 33525 United States;X-APPLE-RADIUS=500;X-TITLE=10628 US Highway 301:geo:-82.1868517,28.3123947
END:VEVENT
END:VCALENDAR