BEGIN:VCALENDAR
VERSION:2.0
PRODID:-//Heart of Worship Church - ECPv6.15.20//NONSGML v1.0//EN
CALSCALE:GREGORIAN
METHOD:PUBLISH
X-ORIGINAL-URL:https://thehowchurch.org
X-WR-CALDESC:Events for Heart of Worship Church
REFRESH-INTERVAL;VALUE=DURATION:PT1H
X-Robots-Tag:noindex
X-PUBLISHED-TTL:PT1H
BEGIN:VTIMEZONE
TZID:America/New_York
BEGIN:DAYLIGHT
TZOFFSETFROM:-0500
TZOFFSETTO:-0400
TZNAME:EDT
DTSTART:20260308T070000
END:DAYLIGHT
BEGIN:STANDARD
TZOFFSETFROM:-0400
TZOFFSETTO:-0500
TZNAME:EST
DTSTART:20261101T060000
END:STANDARD
BEGIN:DAYLIGHT
TZOFFSETFROM:-0500
TZOFFSETTO:-0400
TZNAME:EDT
DTSTART:20270314T070000
END:DAYLIGHT
BEGIN:STANDARD
TZOFFSETFROM:-0400
TZOFFSETTO:-0500
TZNAME:EST
DTSTART:20271107T060000
END:STANDARD
BEGIN:DAYLIGHT
TZOFFSETFROM:-0500
TZOFFSETTO:-0400
TZNAME:EDT
DTSTART:20280312T070000
END:DAYLIGHT
BEGIN:STANDARD
TZOFFSETFROM:-0400
TZOFFSETTO:-0500
TZNAME:EST
DTSTART:20281105T060000
END:STANDARD
END:VTIMEZONE
BEGIN:VEVENT
DTSTART;TZID=America/New_York:20270808T110000
DTEND;TZID=America/New_York:20270808T123000
DTSTAMP:20260425T115940
CREATED:20160613T171114Z
LAST-MODIFIED:20250907T163436Z
UID:10001060-1817722800-1817728200@thehowchurch.org
SUMMARY:Service @ 11:00AM
DESCRIPTION:
URL:https://thehowchurch.org/event/service-1100am-21/2027-08-08/
LOCATION:Heart of Worship Church\, 10628 US Highway 301\, Dade City\, FL\, 33525\, United States
GEO:28.3123947;-82.1868517
X-APPLE-STRUCTURED-LOCATION;VALUE=URI;X-ADDRESS=Heart of Worship Church 10628 US Highway 301 Dade City FL 33525 United States;X-APPLE-RADIUS=500;X-TITLE=10628 US Highway 301:geo:-82.1868517,28.3123947
END:VEVENT
BEGIN:VEVENT
DTSTART;TZID=America/New_York:20270811T184500
DTEND;TZID=America/New_York:20270811T200000
DTSTAMP:20260425T115940
CREATED:20250907T163212Z
LAST-MODIFIED:20260412T152247Z
UID:10000742-1818009900-1818014400@thehowchurch.org
SUMMARY:Wednesday Night Fellowship
DESCRIPTION:Adult Bible study in the Heart of Worship sanctuary beginning at 7:00pm.
URL:https://thehowchurch.org/event/wednesday-night-fellowship/2027-08-11/
LOCATION:Heart of Worship Church\, 10628 US Highway 301\, Dade City\, FL\, 33525\, United States
GEO:28.3123947;-82.1868517
X-APPLE-STRUCTURED-LOCATION;VALUE=URI;X-ADDRESS=Heart of Worship Church 10628 US Highway 301 Dade City FL 33525 United States;X-APPLE-RADIUS=500;X-TITLE=10628 US Highway 301:geo:-82.1868517,28.3123947
END:VEVENT
BEGIN:VEVENT
DTSTART;TZID=America/New_York:20270815T110000
DTEND;TZID=America/New_York:20270815T123000
DTSTAMP:20260425T115940
CREATED:20160613T171114Z
LAST-MODIFIED:20250907T163436Z
UID:10001061-1818327600-1818333000@thehowchurch.org
SUMMARY:Service @ 11:00AM
DESCRIPTION:
URL:https://thehowchurch.org/event/service-1100am-21/2027-08-15/
LOCATION:Heart of Worship Church\, 10628 US Highway 301\, Dade City\, FL\, 33525\, United States
GEO:28.3123947;-82.1868517
X-APPLE-STRUCTURED-LOCATION;VALUE=URI;X-ADDRESS=Heart of Worship Church 10628 US Highway 301 Dade City FL 33525 United States;X-APPLE-RADIUS=500;X-TITLE=10628 US Highway 301:geo:-82.1868517,28.3123947
END:VEVENT
BEGIN:VEVENT
DTSTART;TZID=America/New_York:20270818T184500
DTEND;TZID=America/New_York:20270818T200000
DTSTAMP:20260425T115940
CREATED:20250907T163212Z
LAST-MODIFIED:20260412T152247Z
UID:10000743-1818614700-1818619200@thehowchurch.org
SUMMARY:Wednesday Night Fellowship
DESCRIPTION:Adult Bible study in the Heart of Worship sanctuary beginning at 7:00pm.
URL:https://thehowchurch.org/event/wednesday-night-fellowship/2027-08-18/
LOCATION:Heart of Worship Church\, 10628 US Highway 301\, Dade City\, FL\, 33525\, United States
GEO:28.3123947;-82.1868517
X-APPLE-STRUCTURED-LOCATION;VALUE=URI;X-ADDRESS=Heart of Worship Church 10628 US Highway 301 Dade City FL 33525 United States;X-APPLE-RADIUS=500;X-TITLE=10628 US Highway 301:geo:-82.1868517,28.3123947
END:VEVENT
BEGIN:VEVENT
DTSTART;TZID=America/New_York:20270822T110000
DTEND;TZID=America/New_York:20270822T123000
DTSTAMP:20260425T115940
CREATED:20160613T171114Z
LAST-MODIFIED:20250907T163436Z
UID:10001062-1818932400-1818937800@thehowchurch.org
SUMMARY:Service @ 11:00AM
DESCRIPTION:
URL:https://thehowchurch.org/event/service-1100am-21/2027-08-22/
LOCATION:Heart of Worship Church\, 10628 US Highway 301\, Dade City\, FL\, 33525\, United States
GEO:28.3123947;-82.1868517
X-APPLE-STRUCTURED-LOCATION;VALUE=URI;X-ADDRESS=Heart of Worship Church 10628 US Highway 301 Dade City FL 33525 United States;X-APPLE-RADIUS=500;X-TITLE=10628 US Highway 301:geo:-82.1868517,28.3123947
END:VEVENT
BEGIN:VEVENT
DTSTART;TZID=America/New_York:20270825T184500
DTEND;TZID=America/New_York:20270825T200000
DTSTAMP:20260425T115940
CREATED:20250907T163212Z
LAST-MODIFIED:20260412T152247Z
UID:10000744-1819219500-1819224000@thehowchurch.org
SUMMARY:Wednesday Night Fellowship
DESCRIPTION:Adult Bible study in the Heart of Worship sanctuary beginning at 7:00pm.
URL:https://thehowchurch.org/event/wednesday-night-fellowship/2027-08-25/
LOCATION:Heart of Worship Church\, 10628 US Highway 301\, Dade City\, FL\, 33525\, United States
GEO:28.3123947;-82.1868517
X-APPLE-STRUCTURED-LOCATION;VALUE=URI;X-ADDRESS=Heart of Worship Church 10628 US Highway 301 Dade City FL 33525 United States;X-APPLE-RADIUS=500;X-TITLE=10628 US Highway 301:geo:-82.1868517,28.3123947
END:VEVENT
BEGIN:VEVENT
DTSTART;TZID=America/New_York:20270828T100000
DTEND;TZID=America/New_York:20270828T120000
DTSTAMP:20260425T115940
CREATED:20240928T151740Z
LAST-MODIFIED:20250722T230514Z
UID:10000502-1819447200-1819454400@thehowchurch.org
SUMMARY:Care & Share Ministry
DESCRIPTION:Please join us from 10am-1pm at Hibiscus Park
URL:https://thehowchurch.org/event/care-share-ministry/2027-08-28/
LOCATION:Heart of Worship Church\, 10628 US Highway 301\, Dade City\, FL\, 33525\, United States
GEO:28.3123947;-82.1868517
X-APPLE-STRUCTURED-LOCATION;VALUE=URI;X-ADDRESS=Heart of Worship Church 10628 US Highway 301 Dade City FL 33525 United States;X-APPLE-RADIUS=500;X-TITLE=10628 US Highway 301:geo:-82.1868517,28.3123947
END:VEVENT
BEGIN:VEVENT
DTSTART;TZID=America/New_York:20270829T110000
DTEND;TZID=America/New_York:20270829T123000
DTSTAMP:20260425T115940
CREATED:20160613T171114Z
LAST-MODIFIED:20250907T163436Z
UID:10001063-1819537200-1819542600@thehowchurch.org
SUMMARY:Service @ 11:00AM
DESCRIPTION:
URL:https://thehowchurch.org/event/service-1100am-21/2027-08-29/
LOCATION:Heart of Worship Church\, 10628 US Highway 301\, Dade City\, FL\, 33525\, United States
GEO:28.3123947;-82.1868517
X-APPLE-STRUCTURED-LOCATION;VALUE=URI;X-ADDRESS=Heart of Worship Church 10628 US Highway 301 Dade City FL 33525 United States;X-APPLE-RADIUS=500;X-TITLE=10628 US Highway 301:geo:-82.1868517,28.3123947
END:VEVENT
BEGIN:VEVENT
DTSTART;TZID=America/New_York:20270901T184500
DTEND;TZID=America/New_York:20270901T200000
DTSTAMP:20260425T115940
CREATED:20250907T163212Z
LAST-MODIFIED:20260412T152247Z
UID:10000745-1819824300-1819828800@thehowchurch.org
SUMMARY:Wednesday Night Fellowship
DESCRIPTION:Adult Bible study in the Heart of Worship sanctuary beginning at 7:00pm.
URL:https://thehowchurch.org/event/wednesday-night-fellowship/2027-09-01/
LOCATION:Heart of Worship Church\, 10628 US Highway 301\, Dade City\, FL\, 33525\, United States
GEO:28.3123947;-82.1868517
X-APPLE-STRUCTURED-LOCATION;VALUE=URI;X-ADDRESS=Heart of Worship Church 10628 US Highway 301 Dade City FL 33525 United States;X-APPLE-RADIUS=500;X-TITLE=10628 US Highway 301:geo:-82.1868517,28.3123947
END:VEVENT
BEGIN:VEVENT
DTSTART;TZID=America/New_York:20270905T110000
DTEND;TZID=America/New_York:20270905T123000
DTSTAMP:20260425T115940
CREATED:20160613T171114Z
LAST-MODIFIED:20250907T163436Z
UID:10001064-1820142000-1820147400@thehowchurch.org
SUMMARY:Service @ 11:00AM
DESCRIPTION:
URL:https://thehowchurch.org/event/service-1100am-21/2027-09-05/
LOCATION:Heart of Worship Church\, 10628 US Highway 301\, Dade City\, FL\, 33525\, United States
GEO:28.3123947;-82.1868517
X-APPLE-STRUCTURED-LOCATION;VALUE=URI;X-ADDRESS=Heart of Worship Church 10628 US Highway 301 Dade City FL 33525 United States;X-APPLE-RADIUS=500;X-TITLE=10628 US Highway 301:geo:-82.1868517,28.3123947
END:VEVENT
BEGIN:VEVENT
DTSTART;TZID=America/New_York:20270908T184500
DTEND;TZID=America/New_York:20270908T200000
DTSTAMP:20260425T115940
CREATED:20250907T163212Z
LAST-MODIFIED:20260412T152247Z
UID:10000746-1820429100-1820433600@thehowchurch.org
SUMMARY:Wednesday Night Fellowship
DESCRIPTION:Adult Bible study in the Heart of Worship sanctuary beginning at 7:00pm.
URL:https://thehowchurch.org/event/wednesday-night-fellowship/2027-09-08/
LOCATION:Heart of Worship Church\, 10628 US Highway 301\, Dade City\, FL\, 33525\, United States
GEO:28.3123947;-82.1868517
X-APPLE-STRUCTURED-LOCATION;VALUE=URI;X-ADDRESS=Heart of Worship Church 10628 US Highway 301 Dade City FL 33525 United States;X-APPLE-RADIUS=500;X-TITLE=10628 US Highway 301:geo:-82.1868517,28.3123947
END:VEVENT
BEGIN:VEVENT
DTSTART;TZID=America/New_York:20270912T110000
DTEND;TZID=America/New_York:20270912T123000
DTSTAMP:20260425T115940
CREATED:20160613T171114Z
LAST-MODIFIED:20250907T163436Z
UID:10001065-1820746800-1820752200@thehowchurch.org
SUMMARY:Service @ 11:00AM
DESCRIPTION:
URL:https://thehowchurch.org/event/service-1100am-21/2027-09-12/
LOCATION:Heart of Worship Church\, 10628 US Highway 301\, Dade City\, FL\, 33525\, United States
GEO:28.3123947;-82.1868517
X-APPLE-STRUCTURED-LOCATION;VALUE=URI;X-ADDRESS=Heart of Worship Church 10628 US Highway 301 Dade City FL 33525 United States;X-APPLE-RADIUS=500;X-TITLE=10628 US Highway 301:geo:-82.1868517,28.3123947
END:VEVENT
BEGIN:VEVENT
DTSTART;TZID=America/New_York:20270915T184500
DTEND;TZID=America/New_York:20270915T200000
DTSTAMP:20260425T115940
CREATED:20250907T163212Z
LAST-MODIFIED:20260412T152247Z
UID:10000747-1821033900-1821038400@thehowchurch.org
SUMMARY:Wednesday Night Fellowship
DESCRIPTION:Adult Bible study in the Heart of Worship sanctuary beginning at 7:00pm.
URL:https://thehowchurch.org/event/wednesday-night-fellowship/2027-09-15/
LOCATION:Heart of Worship Church\, 10628 US Highway 301\, Dade City\, FL\, 33525\, United States
GEO:28.3123947;-82.1868517
X-APPLE-STRUCTURED-LOCATION;VALUE=URI;X-ADDRESS=Heart of Worship Church 10628 US Highway 301 Dade City FL 33525 United States;X-APPLE-RADIUS=500;X-TITLE=10628 US Highway 301:geo:-82.1868517,28.3123947
END:VEVENT
BEGIN:VEVENT
DTSTART;TZID=America/New_York:20270919T110000
DTEND;TZID=America/New_York:20270919T123000
DTSTAMP:20260425T115940
CREATED:20160613T171114Z
LAST-MODIFIED:20250907T163436Z
UID:10001066-1821351600-1821357000@thehowchurch.org
SUMMARY:Service @ 11:00AM
DESCRIPTION:
URL:https://thehowchurch.org/event/service-1100am-21/2027-09-19/
LOCATION:Heart of Worship Church\, 10628 US Highway 301\, Dade City\, FL\, 33525\, United States
GEO:28.3123947;-82.1868517
X-APPLE-STRUCTURED-LOCATION;VALUE=URI;X-ADDRESS=Heart of Worship Church 10628 US Highway 301 Dade City FL 33525 United States;X-APPLE-RADIUS=500;X-TITLE=10628 US Highway 301:geo:-82.1868517,28.3123947
END:VEVENT
BEGIN:VEVENT
DTSTART;TZID=America/New_York:20270922T184500
DTEND;TZID=America/New_York:20270922T200000
DTSTAMP:20260425T115940
CREATED:20250907T163212Z
LAST-MODIFIED:20260412T152247Z
UID:10000748-1821638700-1821643200@thehowchurch.org
SUMMARY:Wednesday Night Fellowship
DESCRIPTION:Adult Bible study in the Heart of Worship sanctuary beginning at 7:00pm.
URL:https://thehowchurch.org/event/wednesday-night-fellowship/2027-09-22/
LOCATION:Heart of Worship Church\, 10628 US Highway 301\, Dade City\, FL\, 33525\, United States
GEO:28.3123947;-82.1868517
X-APPLE-STRUCTURED-LOCATION;VALUE=URI;X-ADDRESS=Heart of Worship Church 10628 US Highway 301 Dade City FL 33525 United States;X-APPLE-RADIUS=500;X-TITLE=10628 US Highway 301:geo:-82.1868517,28.3123947
END:VEVENT
BEGIN:VEVENT
DTSTART;TZID=America/New_York:20270925T100000
DTEND;TZID=America/New_York:20270925T120000
DTSTAMP:20260425T115940
CREATED:20240928T151740Z
LAST-MODIFIED:20250722T230514Z
UID:10000503-1821866400-1821873600@thehowchurch.org
SUMMARY:Care & Share Ministry
DESCRIPTION:Please join us from 10am-1pm at Hibiscus Park
URL:https://thehowchurch.org/event/care-share-ministry/2027-09-25/
LOCATION:Heart of Worship Church\, 10628 US Highway 301\, Dade City\, FL\, 33525\, United States
GEO:28.3123947;-82.1868517
X-APPLE-STRUCTURED-LOCATION;VALUE=URI;X-ADDRESS=Heart of Worship Church 10628 US Highway 301 Dade City FL 33525 United States;X-APPLE-RADIUS=500;X-TITLE=10628 US Highway 301:geo:-82.1868517,28.3123947
END:VEVENT
BEGIN:VEVENT
DTSTART;TZID=America/New_York:20270926T110000
DTEND;TZID=America/New_York:20270926T123000
DTSTAMP:20260425T115940
CREATED:20160613T171114Z
LAST-MODIFIED:20250907T163436Z
UID:10001067-1821956400-1821961800@thehowchurch.org
SUMMARY:Service @ 11:00AM
DESCRIPTION:
URL:https://thehowchurch.org/event/service-1100am-21/2027-09-26/
LOCATION:Heart of Worship Church\, 10628 US Highway 301\, Dade City\, FL\, 33525\, United States
GEO:28.3123947;-82.1868517
X-APPLE-STRUCTURED-LOCATION;VALUE=URI;X-ADDRESS=Heart of Worship Church 10628 US Highway 301 Dade City FL 33525 United States;X-APPLE-RADIUS=500;X-TITLE=10628 US Highway 301:geo:-82.1868517,28.3123947
END:VEVENT
BEGIN:VEVENT
DTSTART;TZID=America/New_York:20270929T184500
DTEND;TZID=America/New_York:20270929T200000
DTSTAMP:20260425T115940
CREATED:20250907T163212Z
LAST-MODIFIED:20260412T152247Z
UID:10000749-1822243500-1822248000@thehowchurch.org
SUMMARY:Wednesday Night Fellowship
DESCRIPTION:Adult Bible study in the Heart of Worship sanctuary beginning at 7:00pm.
URL:https://thehowchurch.org/event/wednesday-night-fellowship/2027-09-29/
LOCATION:Heart of Worship Church\, 10628 US Highway 301\, Dade City\, FL\, 33525\, United States
GEO:28.3123947;-82.1868517
X-APPLE-STRUCTURED-LOCATION;VALUE=URI;X-ADDRESS=Heart of Worship Church 10628 US Highway 301 Dade City FL 33525 United States;X-APPLE-RADIUS=500;X-TITLE=10628 US Highway 301:geo:-82.1868517,28.3123947
END:VEVENT
BEGIN:VEVENT
DTSTART;TZID=America/New_York:20271003T110000
DTEND;TZID=America/New_York:20271003T123000
DTSTAMP:20260425T115940
CREATED:20160613T171114Z
LAST-MODIFIED:20250907T163436Z
UID:10001068-1822561200-1822566600@thehowchurch.org
SUMMARY:Service @ 11:00AM
DESCRIPTION:
URL:https://thehowchurch.org/event/service-1100am-21/2027-10-03/
LOCATION:Heart of Worship Church\, 10628 US Highway 301\, Dade City\, FL\, 33525\, United States
GEO:28.3123947;-82.1868517
X-APPLE-STRUCTURED-LOCATION;VALUE=URI;X-ADDRESS=Heart of Worship Church 10628 US Highway 301 Dade City FL 33525 United States;X-APPLE-RADIUS=500;X-TITLE=10628 US Highway 301:geo:-82.1868517,28.3123947
END:VEVENT
BEGIN:VEVENT
DTSTART;TZID=America/New_York:20271006T184500
DTEND;TZID=America/New_York:20271006T200000
DTSTAMP:20260425T115940
CREATED:20250907T163212Z
LAST-MODIFIED:20260412T152247Z
UID:10000750-1822848300-1822852800@thehowchurch.org
SUMMARY:Wednesday Night Fellowship
DESCRIPTION:Adult Bible study in the Heart of Worship sanctuary beginning at 7:00pm.
URL:https://thehowchurch.org/event/wednesday-night-fellowship/2027-10-06/
LOCATION:Heart of Worship Church\, 10628 US Highway 301\, Dade City\, FL\, 33525\, United States
GEO:28.3123947;-82.1868517
X-APPLE-STRUCTURED-LOCATION;VALUE=URI;X-ADDRESS=Heart of Worship Church 10628 US Highway 301 Dade City FL 33525 United States;X-APPLE-RADIUS=500;X-TITLE=10628 US Highway 301:geo:-82.1868517,28.3123947
END:VEVENT
BEGIN:VEVENT
DTSTART;TZID=America/New_York:20271010T110000
DTEND;TZID=America/New_York:20271010T123000
DTSTAMP:20260425T115940
CREATED:20160613T171114Z
LAST-MODIFIED:20250907T163436Z
UID:10001069-1823166000-1823171400@thehowchurch.org
SUMMARY:Service @ 11:00AM
DESCRIPTION:
URL:https://thehowchurch.org/event/service-1100am-21/2027-10-10/
LOCATION:Heart of Worship Church\, 10628 US Highway 301\, Dade City\, FL\, 33525\, United States
GEO:28.3123947;-82.1868517
X-APPLE-STRUCTURED-LOCATION;VALUE=URI;X-ADDRESS=Heart of Worship Church 10628 US Highway 301 Dade City FL 33525 United States;X-APPLE-RADIUS=500;X-TITLE=10628 US Highway 301:geo:-82.1868517,28.3123947
END:VEVENT
BEGIN:VEVENT
DTSTART;TZID=America/New_York:20271013T184500
DTEND;TZID=America/New_York:20271013T200000
DTSTAMP:20260425T115940
CREATED:20250907T163212Z
LAST-MODIFIED:20260412T152247Z
UID:10000751-1823453100-1823457600@thehowchurch.org
SUMMARY:Wednesday Night Fellowship
DESCRIPTION:Adult Bible study in the Heart of Worship sanctuary beginning at 7:00pm.
URL:https://thehowchurch.org/event/wednesday-night-fellowship/2027-10-13/
LOCATION:Heart of Worship Church\, 10628 US Highway 301\, Dade City\, FL\, 33525\, United States
GEO:28.3123947;-82.1868517
X-APPLE-STRUCTURED-LOCATION;VALUE=URI;X-ADDRESS=Heart of Worship Church 10628 US Highway 301 Dade City FL 33525 United States;X-APPLE-RADIUS=500;X-TITLE=10628 US Highway 301:geo:-82.1868517,28.3123947
END:VEVENT
BEGIN:VEVENT
DTSTART;TZID=America/New_York:20271017T110000
DTEND;TZID=America/New_York:20271017T123000
DTSTAMP:20260425T115940
CREATED:20160613T171114Z
LAST-MODIFIED:20250907T163436Z
UID:10001070-1823770800-1823776200@thehowchurch.org
SUMMARY:Service @ 11:00AM
DESCRIPTION:
URL:https://thehowchurch.org/event/service-1100am-21/2027-10-17/
LOCATION:Heart of Worship Church\, 10628 US Highway 301\, Dade City\, FL\, 33525\, United States
GEO:28.3123947;-82.1868517
X-APPLE-STRUCTURED-LOCATION;VALUE=URI;X-ADDRESS=Heart of Worship Church 10628 US Highway 301 Dade City FL 33525 United States;X-APPLE-RADIUS=500;X-TITLE=10628 US Highway 301:geo:-82.1868517,28.3123947
END:VEVENT
BEGIN:VEVENT
DTSTART;TZID=America/New_York:20271020T184500
DTEND;TZID=America/New_York:20271020T200000
DTSTAMP:20260425T115940
CREATED:20250907T163212Z
LAST-MODIFIED:20260412T152247Z
UID:10000752-1824057900-1824062400@thehowchurch.org
SUMMARY:Wednesday Night Fellowship
DESCRIPTION:Adult Bible study in the Heart of Worship sanctuary beginning at 7:00pm.
URL:https://thehowchurch.org/event/wednesday-night-fellowship/2027-10-20/
LOCATION:Heart of Worship Church\, 10628 US Highway 301\, Dade City\, FL\, 33525\, United States
GEO:28.3123947;-82.1868517
X-APPLE-STRUCTURED-LOCATION;VALUE=URI;X-ADDRESS=Heart of Worship Church 10628 US Highway 301 Dade City FL 33525 United States;X-APPLE-RADIUS=500;X-TITLE=10628 US Highway 301:geo:-82.1868517,28.3123947
END:VEVENT
BEGIN:VEVENT
DTSTART;TZID=America/New_York:20271024T110000
DTEND;TZID=America/New_York:20271024T123000
DTSTAMP:20260425T115940
CREATED:20160613T171114Z
LAST-MODIFIED:20250907T163436Z
UID:10001071-1824375600-1824381000@thehowchurch.org
SUMMARY:Service @ 11:00AM
DESCRIPTION:
URL:https://thehowchurch.org/event/service-1100am-21/2027-10-24/
LOCATION:Heart of Worship Church\, 10628 US Highway 301\, Dade City\, FL\, 33525\, United States
GEO:28.3123947;-82.1868517
X-APPLE-STRUCTURED-LOCATION;VALUE=URI;X-ADDRESS=Heart of Worship Church 10628 US Highway 301 Dade City FL 33525 United States;X-APPLE-RADIUS=500;X-TITLE=10628 US Highway 301:geo:-82.1868517,28.3123947
END:VEVENT
BEGIN:VEVENT
DTSTART;TZID=America/New_York:20271027T184500
DTEND;TZID=America/New_York:20271027T200000
DTSTAMP:20260425T115940
CREATED:20250907T163212Z
LAST-MODIFIED:20260412T152247Z
UID:10000753-1824662700-1824667200@thehowchurch.org
SUMMARY:Wednesday Night Fellowship
DESCRIPTION:Adult Bible study in the Heart of Worship sanctuary beginning at 7:00pm.
URL:https://thehowchurch.org/event/wednesday-night-fellowship/2027-10-27/
LOCATION:Heart of Worship Church\, 10628 US Highway 301\, Dade City\, FL\, 33525\, United States
GEO:28.3123947;-82.1868517
X-APPLE-STRUCTURED-LOCATION;VALUE=URI;X-ADDRESS=Heart of Worship Church 10628 US Highway 301 Dade City FL 33525 United States;X-APPLE-RADIUS=500;X-TITLE=10628 US Highway 301:geo:-82.1868517,28.3123947
END:VEVENT
BEGIN:VEVENT
DTSTART;TZID=America/New_York:20271030T100000
DTEND;TZID=America/New_York:20271030T120000
DTSTAMP:20260425T115940
CREATED:20240928T151740Z
LAST-MODIFIED:20250722T230514Z
UID:10000504-1824890400-1824897600@thehowchurch.org
SUMMARY:Care & Share Ministry
DESCRIPTION:Please join us from 10am-1pm at Hibiscus Park
URL:https://thehowchurch.org/event/care-share-ministry/2027-10-30/
LOCATION:Heart of Worship Church\, 10628 US Highway 301\, Dade City\, FL\, 33525\, United States
GEO:28.3123947;-82.1868517
X-APPLE-STRUCTURED-LOCATION;VALUE=URI;X-ADDRESS=Heart of Worship Church 10628 US Highway 301 Dade City FL 33525 United States;X-APPLE-RADIUS=500;X-TITLE=10628 US Highway 301:geo:-82.1868517,28.3123947
END:VEVENT
BEGIN:VEVENT
DTSTART;TZID=America/New_York:20271031T110000
DTEND;TZID=America/New_York:20271031T123000
DTSTAMP:20260425T115940
CREATED:20160613T171114Z
LAST-MODIFIED:20250907T163436Z
UID:10001072-1824980400-1824985800@thehowchurch.org
SUMMARY:Service @ 11:00AM
DESCRIPTION:
URL:https://thehowchurch.org/event/service-1100am-21/2027-10-31/
LOCATION:Heart of Worship Church\, 10628 US Highway 301\, Dade City\, FL\, 33525\, United States
GEO:28.3123947;-82.1868517
X-APPLE-STRUCTURED-LOCATION;VALUE=URI;X-ADDRESS=Heart of Worship Church 10628 US Highway 301 Dade City FL 33525 United States;X-APPLE-RADIUS=500;X-TITLE=10628 US Highway 301:geo:-82.1868517,28.3123947
END:VEVENT
BEGIN:VEVENT
DTSTART;TZID=America/New_York:20271103T184500
DTEND;TZID=America/New_York:20271103T200000
DTSTAMP:20260425T115940
CREATED:20250907T163212Z
LAST-MODIFIED:20260412T152247Z
UID:10000754-1825267500-1825272000@thehowchurch.org
SUMMARY:Wednesday Night Fellowship
DESCRIPTION:Adult Bible study in the Heart of Worship sanctuary beginning at 7:00pm.
URL:https://thehowchurch.org/event/wednesday-night-fellowship/2027-11-03/
LOCATION:Heart of Worship Church\, 10628 US Highway 301\, Dade City\, FL\, 33525\, United States
GEO:28.3123947;-82.1868517
X-APPLE-STRUCTURED-LOCATION;VALUE=URI;X-ADDRESS=Heart of Worship Church 10628 US Highway 301 Dade City FL 33525 United States;X-APPLE-RADIUS=500;X-TITLE=10628 US Highway 301:geo:-82.1868517,28.3123947
END:VEVENT
BEGIN:VEVENT
DTSTART;TZID=America/New_York:20271107T110000
DTEND;TZID=America/New_York:20271107T123000
DTSTAMP:20260425T115940
CREATED:20160613T171114Z
LAST-MODIFIED:20250907T163436Z
UID:10001073-1825585200-1825590600@thehowchurch.org
SUMMARY:Service @ 11:00AM
DESCRIPTION:
URL:https://thehowchurch.org/event/service-1100am-21/2027-11-07/
LOCATION:Heart of Worship Church\, 10628 US Highway 301\, Dade City\, FL\, 33525\, United States
GEO:28.3123947;-82.1868517
X-APPLE-STRUCTURED-LOCATION;VALUE=URI;X-ADDRESS=Heart of Worship Church 10628 US Highway 301 Dade City FL 33525 United States;X-APPLE-RADIUS=500;X-TITLE=10628 US Highway 301:geo:-82.1868517,28.3123947
END:VEVENT
END:VCALENDAR