BEGIN:VCALENDAR
VERSION:2.0
PRODID:-//Heart of Worship Church - ECPv6.15.20//NONSGML v1.0//EN
CALSCALE:GREGORIAN
METHOD:PUBLISH
X-WR-CALNAME:Heart of Worship Church
X-ORIGINAL-URL:https://thehowchurch.org
X-WR-CALDESC:Events for Heart of Worship Church
REFRESH-INTERVAL;VALUE=DURATION:PT1H
X-Robots-Tag:noindex
X-PUBLISHED-TTL:PT1H
BEGIN:VTIMEZONE
TZID:America/New_York
BEGIN:DAYLIGHT
TZOFFSETFROM:-0500
TZOFFSETTO:-0400
TZNAME:EDT
DTSTART:20240310T070000
END:DAYLIGHT
BEGIN:STANDARD
TZOFFSETFROM:-0400
TZOFFSETTO:-0500
TZNAME:EST
DTSTART:20241103T060000
END:STANDARD
BEGIN:DAYLIGHT
TZOFFSETFROM:-0500
TZOFFSETTO:-0400
TZNAME:EDT
DTSTART:20250309T070000
END:DAYLIGHT
BEGIN:STANDARD
TZOFFSETFROM:-0400
TZOFFSETTO:-0500
TZNAME:EST
DTSTART:20251102T060000
END:STANDARD
BEGIN:DAYLIGHT
TZOFFSETFROM:-0500
TZOFFSETTO:-0400
TZNAME:EDT
DTSTART:20260308T070000
END:DAYLIGHT
BEGIN:STANDARD
TZOFFSETFROM:-0400
TZOFFSETTO:-0500
TZNAME:EST
DTSTART:20261101T060000
END:STANDARD
END:VTIMEZONE
BEGIN:VEVENT
DTSTART;TZID=America/New_York:20251112T184500
DTEND;TZID=America/New_York:20251112T200000
DTSTAMP:20260420T152744
CREATED:20250907T163212Z
LAST-MODIFIED:20260412T152247Z
UID:10000651-1762973100-1762977600@thehowchurch.org
SUMMARY:Wednesday Night Fellowship
DESCRIPTION:Adult Bible study in the Heart of Worship sanctuary beginning at 7:00pm.
URL:https://thehowchurch.org/event/wednesday-night-fellowship/2025-11-12/
LOCATION:Heart of Worship Church\, 10628 US Highway 301\, Dade City\, FL\, 33525\, United States
GEO:28.3123947;-82.1868517
X-APPLE-STRUCTURED-LOCATION;VALUE=URI;X-ADDRESS=Heart of Worship Church 10628 US Highway 301 Dade City FL 33525 United States;X-APPLE-RADIUS=500;X-TITLE=10628 US Highway 301:geo:-82.1868517,28.3123947
END:VEVENT
BEGIN:VEVENT
DTSTART;TZID=America/New_York:20251109T110000
DTEND;TZID=America/New_York:20251109T123000
DTSTAMP:20260420T152744
CREATED:20160613T171114Z
LAST-MODIFIED:20250907T163436Z
UID:10000969-1762686000-1762691400@thehowchurch.org
SUMMARY:Service @ 11:00AM
DESCRIPTION:
URL:https://thehowchurch.org/event/service-1100am-21/2025-11-09/
LOCATION:Heart of Worship Church\, 10628 US Highway 301\, Dade City\, FL\, 33525\, United States
GEO:28.3123947;-82.1868517
X-APPLE-STRUCTURED-LOCATION;VALUE=URI;X-ADDRESS=Heart of Worship Church 10628 US Highway 301 Dade City FL 33525 United States;X-APPLE-RADIUS=500;X-TITLE=10628 US Highway 301:geo:-82.1868517,28.3123947
END:VEVENT
BEGIN:VEVENT
DTSTART;TZID=America/New_York:20251105T184500
DTEND;TZID=America/New_York:20251105T200000
DTSTAMP:20260420T152744
CREATED:20250907T163212Z
LAST-MODIFIED:20260412T152247Z
UID:10000650-1762368300-1762372800@thehowchurch.org
SUMMARY:Wednesday Night Fellowship
DESCRIPTION:Adult Bible study in the Heart of Worship sanctuary beginning at 7:00pm.
URL:https://thehowchurch.org/event/wednesday-night-fellowship/2025-11-05/
LOCATION:Heart of Worship Church\, 10628 US Highway 301\, Dade City\, FL\, 33525\, United States
GEO:28.3123947;-82.1868517
X-APPLE-STRUCTURED-LOCATION;VALUE=URI;X-ADDRESS=Heart of Worship Church 10628 US Highway 301 Dade City FL 33525 United States;X-APPLE-RADIUS=500;X-TITLE=10628 US Highway 301:geo:-82.1868517,28.3123947
END:VEVENT
BEGIN:VEVENT
DTSTART;TZID=America/New_York:20251102T110000
DTEND;TZID=America/New_York:20251102T123000
DTSTAMP:20260420T152744
CREATED:20160613T171114Z
LAST-MODIFIED:20250907T163436Z
UID:10000968-1762081200-1762086600@thehowchurch.org
SUMMARY:Service @ 11:00AM
DESCRIPTION:
URL:https://thehowchurch.org/event/service-1100am-21/2025-11-02/
LOCATION:Heart of Worship Church\, 10628 US Highway 301\, Dade City\, FL\, 33525\, United States
GEO:28.3123947;-82.1868517
X-APPLE-STRUCTURED-LOCATION;VALUE=URI;X-ADDRESS=Heart of Worship Church 10628 US Highway 301 Dade City FL 33525 United States;X-APPLE-RADIUS=500;X-TITLE=10628 US Highway 301:geo:-82.1868517,28.3123947
END:VEVENT
BEGIN:VEVENT
DTSTART;TZID=America/New_York:20251029T184500
DTEND;TZID=America/New_York:20251029T200000
DTSTAMP:20260420T152744
CREATED:20250907T163212Z
LAST-MODIFIED:20260412T152247Z
UID:10000649-1761763500-1761768000@thehowchurch.org
SUMMARY:Wednesday Night Fellowship
DESCRIPTION:Adult Bible study in the Heart of Worship sanctuary beginning at 7:00pm.
URL:https://thehowchurch.org/event/wednesday-night-fellowship/2025-10-29/
LOCATION:Heart of Worship Church\, 10628 US Highway 301\, Dade City\, FL\, 33525\, United States
GEO:28.3123947;-82.1868517
X-APPLE-STRUCTURED-LOCATION;VALUE=URI;X-ADDRESS=Heart of Worship Church 10628 US Highway 301 Dade City FL 33525 United States;X-APPLE-RADIUS=500;X-TITLE=10628 US Highway 301:geo:-82.1868517,28.3123947
END:VEVENT
BEGIN:VEVENT
DTSTART;TZID=America/New_York:20251026T110000
DTEND;TZID=America/New_York:20251026T123000
DTSTAMP:20260420T152744
CREATED:20160613T171114Z
LAST-MODIFIED:20250907T163436Z
UID:10000967-1761476400-1761481800@thehowchurch.org
SUMMARY:Service @ 11:00AM
DESCRIPTION:
URL:https://thehowchurch.org/event/service-1100am-21/2025-10-26/
LOCATION:Heart of Worship Church\, 10628 US Highway 301\, Dade City\, FL\, 33525\, United States
GEO:28.3123947;-82.1868517
X-APPLE-STRUCTURED-LOCATION;VALUE=URI;X-ADDRESS=Heart of Worship Church 10628 US Highway 301 Dade City FL 33525 United States;X-APPLE-RADIUS=500;X-TITLE=10628 US Highway 301:geo:-82.1868517,28.3123947
END:VEVENT
BEGIN:VEVENT
DTSTART;TZID=America/New_York:20251025T100000
DTEND;TZID=America/New_York:20251025T120000
DTSTAMP:20260420T152744
CREATED:20240928T151740Z
LAST-MODIFIED:20250722T230514Z
UID:10000480-1761386400-1761393600@thehowchurch.org
SUMMARY:Care & Share Ministry
DESCRIPTION:Please join us from 10am-1pm at Hibiscus Park
URL:https://thehowchurch.org/event/care-share-ministry/2025-10-25/
LOCATION:Heart of Worship Church\, 10628 US Highway 301\, Dade City\, FL\, 33525\, United States
GEO:28.3123947;-82.1868517
X-APPLE-STRUCTURED-LOCATION;VALUE=URI;X-ADDRESS=Heart of Worship Church 10628 US Highway 301 Dade City FL 33525 United States;X-APPLE-RADIUS=500;X-TITLE=10628 US Highway 301:geo:-82.1868517,28.3123947
END:VEVENT
BEGIN:VEVENT
DTSTART;TZID=America/New_York:20251022T184500
DTEND;TZID=America/New_York:20251022T200000
DTSTAMP:20260420T152744
CREATED:20250907T163212Z
LAST-MODIFIED:20260412T152247Z
UID:10000648-1761158700-1761163200@thehowchurch.org
SUMMARY:Wednesday Night Fellowship
DESCRIPTION:Adult Bible study in the Heart of Worship sanctuary beginning at 7:00pm.
URL:https://thehowchurch.org/event/wednesday-night-fellowship/2025-10-22/
LOCATION:Heart of Worship Church\, 10628 US Highway 301\, Dade City\, FL\, 33525\, United States
GEO:28.3123947;-82.1868517
X-APPLE-STRUCTURED-LOCATION;VALUE=URI;X-ADDRESS=Heart of Worship Church 10628 US Highway 301 Dade City FL 33525 United States;X-APPLE-RADIUS=500;X-TITLE=10628 US Highway 301:geo:-82.1868517,28.3123947
END:VEVENT
BEGIN:VEVENT
DTSTART;TZID=America/New_York:20251019T110000
DTEND;TZID=America/New_York:20251019T123000
DTSTAMP:20260420T152744
CREATED:20160613T171114Z
LAST-MODIFIED:20250907T163436Z
UID:10000966-1760871600-1760877000@thehowchurch.org
SUMMARY:Service @ 11:00AM
DESCRIPTION:
URL:https://thehowchurch.org/event/service-1100am-21/2025-10-19/
LOCATION:Heart of Worship Church\, 10628 US Highway 301\, Dade City\, FL\, 33525\, United States
GEO:28.3123947;-82.1868517
X-APPLE-STRUCTURED-LOCATION;VALUE=URI;X-ADDRESS=Heart of Worship Church 10628 US Highway 301 Dade City FL 33525 United States;X-APPLE-RADIUS=500;X-TITLE=10628 US Highway 301:geo:-82.1868517,28.3123947
END:VEVENT
BEGIN:VEVENT
DTSTART;TZID=America/New_York:20251015T184500
DTEND;TZID=America/New_York:20251015T200000
DTSTAMP:20260420T152744
CREATED:20250907T163212Z
LAST-MODIFIED:20260412T152247Z
UID:10000647-1760553900-1760558400@thehowchurch.org
SUMMARY:Wednesday Night Fellowship
DESCRIPTION:Adult Bible study in the Heart of Worship sanctuary beginning at 7:00pm.
URL:https://thehowchurch.org/event/wednesday-night-fellowship/2025-10-15/
LOCATION:Heart of Worship Church\, 10628 US Highway 301\, Dade City\, FL\, 33525\, United States
GEO:28.3123947;-82.1868517
X-APPLE-STRUCTURED-LOCATION;VALUE=URI;X-ADDRESS=Heart of Worship Church 10628 US Highway 301 Dade City FL 33525 United States;X-APPLE-RADIUS=500;X-TITLE=10628 US Highway 301:geo:-82.1868517,28.3123947
END:VEVENT
BEGIN:VEVENT
DTSTART;TZID=America/New_York:20251012T110000
DTEND;TZID=America/New_York:20251012T123000
DTSTAMP:20260420T152744
CREATED:20160613T171114Z
LAST-MODIFIED:20250907T163436Z
UID:10000965-1760266800-1760272200@thehowchurch.org
SUMMARY:Service @ 11:00AM
DESCRIPTION:
URL:https://thehowchurch.org/event/service-1100am-21/2025-10-12/
LOCATION:Heart of Worship Church\, 10628 US Highway 301\, Dade City\, FL\, 33525\, United States
GEO:28.3123947;-82.1868517
X-APPLE-STRUCTURED-LOCATION;VALUE=URI;X-ADDRESS=Heart of Worship Church 10628 US Highway 301 Dade City FL 33525 United States;X-APPLE-RADIUS=500;X-TITLE=10628 US Highway 301:geo:-82.1868517,28.3123947
END:VEVENT
BEGIN:VEVENT
DTSTART;TZID=America/New_York:20251008T184500
DTEND;TZID=America/New_York:20251008T200000
DTSTAMP:20260420T152744
CREATED:20250907T163212Z
LAST-MODIFIED:20260412T152247Z
UID:10000646-1759949100-1759953600@thehowchurch.org
SUMMARY:Wednesday Night Fellowship
DESCRIPTION:Adult Bible study in the Heart of Worship sanctuary beginning at 7:00pm.
URL:https://thehowchurch.org/event/wednesday-night-fellowship/2025-10-08/
LOCATION:Heart of Worship Church\, 10628 US Highway 301\, Dade City\, FL\, 33525\, United States
GEO:28.3123947;-82.1868517
X-APPLE-STRUCTURED-LOCATION;VALUE=URI;X-ADDRESS=Heart of Worship Church 10628 US Highway 301 Dade City FL 33525 United States;X-APPLE-RADIUS=500;X-TITLE=10628 US Highway 301:geo:-82.1868517,28.3123947
END:VEVENT
BEGIN:VEVENT
DTSTART;TZID=America/New_York:20251005T110000
DTEND;TZID=America/New_York:20251005T123000
DTSTAMP:20260420T152744
CREATED:20160613T171114Z
LAST-MODIFIED:20250907T163436Z
UID:10000964-1759662000-1759667400@thehowchurch.org
SUMMARY:Service @ 11:00AM
DESCRIPTION:
URL:https://thehowchurch.org/event/service-1100am-21/2025-10-05/
LOCATION:Heart of Worship Church\, 10628 US Highway 301\, Dade City\, FL\, 33525\, United States
GEO:28.3123947;-82.1868517
X-APPLE-STRUCTURED-LOCATION;VALUE=URI;X-ADDRESS=Heart of Worship Church 10628 US Highway 301 Dade City FL 33525 United States;X-APPLE-RADIUS=500;X-TITLE=10628 US Highway 301:geo:-82.1868517,28.3123947
END:VEVENT
BEGIN:VEVENT
DTSTART;TZID=America/New_York:20251001T184500
DTEND;TZID=America/New_York:20251001T200000
DTSTAMP:20260420T152744
CREATED:20250907T163212Z
LAST-MODIFIED:20260412T152247Z
UID:10000645-1759344300-1759348800@thehowchurch.org
SUMMARY:Wednesday Night Fellowship
DESCRIPTION:Adult Bible study in the Heart of Worship sanctuary beginning at 7:00pm.
URL:https://thehowchurch.org/event/wednesday-night-fellowship/2025-10-01/
LOCATION:Heart of Worship Church\, 10628 US Highway 301\, Dade City\, FL\, 33525\, United States
GEO:28.3123947;-82.1868517
X-APPLE-STRUCTURED-LOCATION;VALUE=URI;X-ADDRESS=Heart of Worship Church 10628 US Highway 301 Dade City FL 33525 United States;X-APPLE-RADIUS=500;X-TITLE=10628 US Highway 301:geo:-82.1868517,28.3123947
END:VEVENT
BEGIN:VEVENT
DTSTART;TZID=America/New_York:20250928T110000
DTEND;TZID=America/New_York:20250928T123000
DTSTAMP:20260420T152744
CREATED:20160613T171114Z
LAST-MODIFIED:20250907T163436Z
UID:10000963-1759057200-1759062600@thehowchurch.org
SUMMARY:Service @ 11:00AM
DESCRIPTION:
URL:https://thehowchurch.org/event/service-1100am-21/2025-09-28/
LOCATION:Heart of Worship Church\, 10628 US Highway 301\, Dade City\, FL\, 33525\, United States
GEO:28.3123947;-82.1868517
X-APPLE-STRUCTURED-LOCATION;VALUE=URI;X-ADDRESS=Heart of Worship Church 10628 US Highway 301 Dade City FL 33525 United States;X-APPLE-RADIUS=500;X-TITLE=10628 US Highway 301:geo:-82.1868517,28.3123947
END:VEVENT
BEGIN:VEVENT
DTSTART;TZID=America/New_York:20250927T100000
DTEND;TZID=America/New_York:20250927T120000
DTSTAMP:20260420T152744
CREATED:20240928T151740Z
LAST-MODIFIED:20250722T230514Z
UID:10000479-1758967200-1758974400@thehowchurch.org
SUMMARY:Care & Share Ministry
DESCRIPTION:Please join us from 10am-1pm at Hibiscus Park
URL:https://thehowchurch.org/event/care-share-ministry/2025-09-27/
LOCATION:Heart of Worship Church\, 10628 US Highway 301\, Dade City\, FL\, 33525\, United States
GEO:28.3123947;-82.1868517
X-APPLE-STRUCTURED-LOCATION;VALUE=URI;X-ADDRESS=Heart of Worship Church 10628 US Highway 301 Dade City FL 33525 United States;X-APPLE-RADIUS=500;X-TITLE=10628 US Highway 301:geo:-82.1868517,28.3123947
END:VEVENT
BEGIN:VEVENT
DTSTART;TZID=America/New_York:20250924T184500
DTEND;TZID=America/New_York:20250924T200000
DTSTAMP:20260420T152744
CREATED:20250907T163212Z
LAST-MODIFIED:20260412T152247Z
UID:10000644-1758739500-1758744000@thehowchurch.org
SUMMARY:Wednesday Night Fellowship
DESCRIPTION:Adult Bible study in the Heart of Worship sanctuary beginning at 7:00pm.
URL:https://thehowchurch.org/event/wednesday-night-fellowship/2025-09-24/
LOCATION:Heart of Worship Church\, 10628 US Highway 301\, Dade City\, FL\, 33525\, United States
GEO:28.3123947;-82.1868517
X-APPLE-STRUCTURED-LOCATION;VALUE=URI;X-ADDRESS=Heart of Worship Church 10628 US Highway 301 Dade City FL 33525 United States;X-APPLE-RADIUS=500;X-TITLE=10628 US Highway 301:geo:-82.1868517,28.3123947
END:VEVENT
BEGIN:VEVENT
DTSTART;TZID=America/New_York:20250921T110000
DTEND;TZID=America/New_York:20250921T123000
DTSTAMP:20260420T152744
CREATED:20160613T171114Z
LAST-MODIFIED:20250907T163436Z
UID:10000962-1758452400-1758457800@thehowchurch.org
SUMMARY:Service @ 11:00AM
DESCRIPTION:
URL:https://thehowchurch.org/event/service-1100am-21/2025-09-21/
LOCATION:Heart of Worship Church\, 10628 US Highway 301\, Dade City\, FL\, 33525\, United States
GEO:28.3123947;-82.1868517
X-APPLE-STRUCTURED-LOCATION;VALUE=URI;X-ADDRESS=Heart of Worship Church 10628 US Highway 301 Dade City FL 33525 United States;X-APPLE-RADIUS=500;X-TITLE=10628 US Highway 301:geo:-82.1868517,28.3123947
END:VEVENT
BEGIN:VEVENT
DTSTART;TZID=America/New_York:20250917T184500
DTEND;TZID=America/New_York:20250917T200000
DTSTAMP:20260420T152744
CREATED:20250907T163212Z
LAST-MODIFIED:20260412T152247Z
UID:10000643-1758134700-1758139200@thehowchurch.org
SUMMARY:Wednesday Night Fellowship
DESCRIPTION:Adult Bible study in the Heart of Worship sanctuary beginning at 7:00pm.
URL:https://thehowchurch.org/event/wednesday-night-fellowship/2025-09-17/
LOCATION:Heart of Worship Church\, 10628 US Highway 301\, Dade City\, FL\, 33525\, United States
GEO:28.3123947;-82.1868517
X-APPLE-STRUCTURED-LOCATION;VALUE=URI;X-ADDRESS=Heart of Worship Church 10628 US Highway 301 Dade City FL 33525 United States;X-APPLE-RADIUS=500;X-TITLE=10628 US Highway 301:geo:-82.1868517,28.3123947
END:VEVENT
BEGIN:VEVENT
DTSTART;TZID=America/New_York:20250914T110000
DTEND;TZID=America/New_York:20250914T123000
DTSTAMP:20260420T152744
CREATED:20160613T171114Z
LAST-MODIFIED:20250907T163436Z
UID:10000961-1757847600-1757853000@thehowchurch.org
SUMMARY:Service @ 11:00AM
DESCRIPTION:
URL:https://thehowchurch.org/event/service-1100am-21/2025-09-14/
LOCATION:Heart of Worship Church\, 10628 US Highway 301\, Dade City\, FL\, 33525\, United States
GEO:28.3123947;-82.1868517
X-APPLE-STRUCTURED-LOCATION;VALUE=URI;X-ADDRESS=Heart of Worship Church 10628 US Highway 301 Dade City FL 33525 United States;X-APPLE-RADIUS=500;X-TITLE=10628 US Highway 301:geo:-82.1868517,28.3123947
END:VEVENT
BEGIN:VEVENT
DTSTART;TZID=America/New_York:20250910T184500
DTEND;TZID=America/New_York:20250910T200000
DTSTAMP:20260420T152744
CREATED:20250907T163212Z
LAST-MODIFIED:20260412T152247Z
UID:10000642-1757529900-1757534400@thehowchurch.org
SUMMARY:Wednesday Night Fellowship
DESCRIPTION:Adult Bible study in the Heart of Worship sanctuary beginning at 7:00pm.
URL:https://thehowchurch.org/event/wednesday-night-fellowship/2025-09-10/
LOCATION:Heart of Worship Church\, 10628 US Highway 301\, Dade City\, FL\, 33525\, United States
GEO:28.3123947;-82.1868517
X-APPLE-STRUCTURED-LOCATION;VALUE=URI;X-ADDRESS=Heart of Worship Church 10628 US Highway 301 Dade City FL 33525 United States;X-APPLE-RADIUS=500;X-TITLE=10628 US Highway 301:geo:-82.1868517,28.3123947
END:VEVENT
BEGIN:VEVENT
DTSTART;TZID=America/New_York:20250907T110000
DTEND;TZID=America/New_York:20250907T123000
DTSTAMP:20260420T152744
CREATED:20160613T171114Z
LAST-MODIFIED:20250907T163436Z
UID:10000960-1757242800-1757248200@thehowchurch.org
SUMMARY:Service @ 11:00AM
DESCRIPTION:
URL:https://thehowchurch.org/event/service-1100am-21/2025-09-07/
LOCATION:Heart of Worship Church\, 10628 US Highway 301\, Dade City\, FL\, 33525\, United States
GEO:28.3123947;-82.1868517
X-APPLE-STRUCTURED-LOCATION;VALUE=URI;X-ADDRESS=Heart of Worship Church 10628 US Highway 301 Dade City FL 33525 United States;X-APPLE-RADIUS=500;X-TITLE=10628 US Highway 301:geo:-82.1868517,28.3123947
END:VEVENT
BEGIN:VEVENT
DTSTART;TZID=America/New_York:20250831T110000
DTEND;TZID=America/New_York:20250831T123000
DTSTAMP:20260420T152744
CREATED:20160613T171114Z
LAST-MODIFIED:20250907T163436Z
UID:10000959-1756638000-1756643400@thehowchurch.org
SUMMARY:Service @ 11:00AM
DESCRIPTION:
URL:https://thehowchurch.org/event/service-1100am-21/2025-08-31/
LOCATION:Heart of Worship Church\, 10628 US Highway 301\, Dade City\, FL\, 33525\, United States
GEO:28.3123947;-82.1868517
X-APPLE-STRUCTURED-LOCATION;VALUE=URI;X-ADDRESS=Heart of Worship Church 10628 US Highway 301 Dade City FL 33525 United States;X-APPLE-RADIUS=500;X-TITLE=10628 US Highway 301:geo:-82.1868517,28.3123947
END:VEVENT
BEGIN:VEVENT
DTSTART;TZID=America/New_York:20250830T100000
DTEND;TZID=America/New_York:20250830T120000
DTSTAMP:20260420T152744
CREATED:20240928T151740Z
LAST-MODIFIED:20250722T230514Z
UID:10000478-1756548000-1756555200@thehowchurch.org
SUMMARY:Care & Share Ministry
DESCRIPTION:Please join us from 10am-1pm at Hibiscus Park
URL:https://thehowchurch.org/event/care-share-ministry/2025-08-30/
LOCATION:Heart of Worship Church\, 10628 US Highway 301\, Dade City\, FL\, 33525\, United States
GEO:28.3123947;-82.1868517
X-APPLE-STRUCTURED-LOCATION;VALUE=URI;X-ADDRESS=Heart of Worship Church 10628 US Highway 301 Dade City FL 33525 United States;X-APPLE-RADIUS=500;X-TITLE=10628 US Highway 301:geo:-82.1868517,28.3123947
END:VEVENT
BEGIN:VEVENT
DTSTART;TZID=America/New_York:20250824T110000
DTEND;TZID=America/New_York:20250824T123000
DTSTAMP:20260420T152744
CREATED:20160613T171114Z
LAST-MODIFIED:20250907T163436Z
UID:10000958-1756033200-1756038600@thehowchurch.org
SUMMARY:Service @ 11:00AM
DESCRIPTION:
URL:https://thehowchurch.org/event/service-1100am-21/2025-08-24/
LOCATION:Heart of Worship Church\, 10628 US Highway 301\, Dade City\, FL\, 33525\, United States
GEO:28.3123947;-82.1868517
X-APPLE-STRUCTURED-LOCATION;VALUE=URI;X-ADDRESS=Heart of Worship Church 10628 US Highway 301 Dade City FL 33525 United States;X-APPLE-RADIUS=500;X-TITLE=10628 US Highway 301:geo:-82.1868517,28.3123947
END:VEVENT
BEGIN:VEVENT
DTSTART;TZID=America/New_York:20250817T110000
DTEND;TZID=America/New_York:20250817T123000
DTSTAMP:20260420T152744
CREATED:20160613T171114Z
LAST-MODIFIED:20250907T163436Z
UID:10000957-1755428400-1755433800@thehowchurch.org
SUMMARY:Service @ 11:00AM
DESCRIPTION:
URL:https://thehowchurch.org/event/service-1100am-21/2025-08-17/
LOCATION:Heart of Worship Church\, 10628 US Highway 301\, Dade City\, FL\, 33525\, United States
GEO:28.3123947;-82.1868517
X-APPLE-STRUCTURED-LOCATION;VALUE=URI;X-ADDRESS=Heart of Worship Church 10628 US Highway 301 Dade City FL 33525 United States;X-APPLE-RADIUS=500;X-TITLE=10628 US Highway 301:geo:-82.1868517,28.3123947
END:VEVENT
BEGIN:VEVENT
DTSTART;TZID=America/New_York:20250810T110000
DTEND;TZID=America/New_York:20250810T123000
DTSTAMP:20260420T152744
CREATED:20160613T171114Z
LAST-MODIFIED:20250907T163436Z
UID:10000956-1754823600-1754829000@thehowchurch.org
SUMMARY:Service @ 11:00AM
DESCRIPTION:
URL:https://thehowchurch.org/event/service-1100am-21/2025-08-10/
LOCATION:Heart of Worship Church\, 10628 US Highway 301\, Dade City\, FL\, 33525\, United States
GEO:28.3123947;-82.1868517
X-APPLE-STRUCTURED-LOCATION;VALUE=URI;X-ADDRESS=Heart of Worship Church 10628 US Highway 301 Dade City FL 33525 United States;X-APPLE-RADIUS=500;X-TITLE=10628 US Highway 301:geo:-82.1868517,28.3123947
END:VEVENT
BEGIN:VEVENT
DTSTART;TZID=America/New_York:20250803T110000
DTEND;TZID=America/New_York:20250803T123000
DTSTAMP:20260420T152744
CREATED:20160613T171114Z
LAST-MODIFIED:20250907T163436Z
UID:10000955-1754218800-1754224200@thehowchurch.org
SUMMARY:Service @ 11:00AM
DESCRIPTION:
URL:https://thehowchurch.org/event/service-1100am-21/2025-08-03/
LOCATION:Heart of Worship Church\, 10628 US Highway 301\, Dade City\, FL\, 33525\, United States
GEO:28.3123947;-82.1868517
X-APPLE-STRUCTURED-LOCATION;VALUE=URI;X-ADDRESS=Heart of Worship Church 10628 US Highway 301 Dade City FL 33525 United States;X-APPLE-RADIUS=500;X-TITLE=10628 US Highway 301:geo:-82.1868517,28.3123947
END:VEVENT
BEGIN:VEVENT
DTSTART;TZID=America/New_York:20250727T110000
DTEND;TZID=America/New_York:20250727T123000
DTSTAMP:20260420T152744
CREATED:20160613T171114Z
LAST-MODIFIED:20250907T163436Z
UID:10000466-1753614000-1753619400@thehowchurch.org
SUMMARY:Service @ 11:00AM
DESCRIPTION:
URL:https://thehowchurch.org/event/service-1100am-21/2025-07-27/
LOCATION:Heart of Worship Church\, 10628 US Highway 301\, Dade City\, FL\, 33525\, United States
GEO:28.3123947;-82.1868517
X-APPLE-STRUCTURED-LOCATION;VALUE=URI;X-ADDRESS=Heart of Worship Church 10628 US Highway 301 Dade City FL 33525 United States;X-APPLE-RADIUS=500;X-TITLE=10628 US Highway 301:geo:-82.1868517,28.3123947
END:VEVENT
BEGIN:VEVENT
DTSTART;TZID=America/New_York:20250726T100000
DTEND;TZID=America/New_York:20250726T120000
DTSTAMP:20260420T152744
CREATED:20240928T151740Z
LAST-MODIFIED:20250722T230514Z
UID:10000477-1753524000-1753531200@thehowchurch.org
SUMMARY:Care & Share Ministry
DESCRIPTION:Please join us from 10am-1pm at Hibiscus Park
URL:https://thehowchurch.org/event/care-share-ministry/2025-07-26/
LOCATION:Heart of Worship Church\, 10628 US Highway 301\, Dade City\, FL\, 33525\, United States
GEO:28.3123947;-82.1868517
X-APPLE-STRUCTURED-LOCATION;VALUE=URI;X-ADDRESS=Heart of Worship Church 10628 US Highway 301 Dade City FL 33525 United States;X-APPLE-RADIUS=500;X-TITLE=10628 US Highway 301:geo:-82.1868517,28.3123947
END:VEVENT
END:VCALENDAR